Workbook

Sheet คำชี้แจง
A1: คำชี้แจง
A2: 1. กรุณากรอกข้อมูลเฉพาะในช่องที่กำหนดไว้ คือ ช่องสีเขียว | C2: เท่านั้น
A3: 2. แบบรายงานภาระงานและประเมินผลฯ นี้ มีทั้งสิ้น 3 ตอน ขอให้ผู้รับการประเมินกรอกข้อมูลในช่องสีเขียวและในช่องสัญลักษณ์ต่างๆ ให้ครบถ้วน
A4: 3. ภาระงานที่กำหนดในตอนที่ 2 เป็นไปตามข้อบังคับฯ ว่าด้วยการกำหนดภาระงานทางวิชาการของผู้ดำรงตำแหน่งอาจารย์ ผู้ช่วยศาสตราจารย์ รองศาสตราจารย์ และศาสตราจารย์ พ.ศ. 2565
A5: สามารถศึกษาข้อมูลเพิ่มเติมได้จาก
A6: ข้อบังคับฯ ว่าด้วยการกำหนดภาระงานทางวิชาการฯ | B6: https://hrmd.bsru.ac.th/download/publish18-09-662/
A7: ประกาศเรื่องหลักเกณฑ์การคิดค่าภาระงานฯ | B7: https://hrmd.bsru.ac.th/download/publish18-09-661/
A8: 4. ข้อมูลในการคำนวณการประเมินผลสัมฤทธิ์ของงานในตอนที่ 3 เป็นไปตามประกาศมหาวิทยาลัยราชภัฏบ้านสมเด็จเจ้าพระยา
A9: เรื่องหลักเกณฑ์ และวิธีการประเมินผลการปฏิบัติราชการของข้าราชการพลเรือนในสถาบันอุดมศึกษา สังกัดมหาวิทยาลัยราชภัฏบ้านสมเด็จเจ้าพระยา (ฉบับที่ 2) พ.ศ. 2568
A10: ซึ่งสามารถศึกษาข้อมูลเพิ่มเติมได้จาก | B10: https://link.bsru.ac.th/19iu
A11: 5. แบบรายงานภาระงานฯ ฉบับนี้จัดทำโดยใช้ฟอนต์ TH Sarabun PSK หากเปิดใช้งานแล้วพบว่า ตัวอักษรมีความผิดเพี้ยน
A12: กรุณาดาวน์โหลดฟอนต์เพิ่มเติม

Sheet เกณฑ์คะแนนตัวชี้วัด-ตอนที่ 1+2
C1: แบบรายงานภาระงานและประเมินผลสัมฤทธิ์ของงานประกอบการประเมินผลการปฏิบัติราชการของบุคลากรสายวิชาการ สังกัดมหาวิทยาลัยราชภัฏบ้านสมเด็จเจ้าพระยา | L1: แบบ ป.มบส. 1
A2: คำชี้แจง | B2: 1. ภาระงานเป็นไปตามข้อบังคับฯ ว่าด้วยการกำหนดภาระงานทางวิชาการของผู้ดำรงตำแหน่งอาจารย์ ผู้ช่วยศาสตราจารย์ รองศาสตราจารย์ และศาสตราจารย์ พ.ศ. 2565
B3: 2. แบบรายงานภาระงานและประเมินผลฯ นี้ มีทั้งสิ้น 3 ตอน ขอให้ผู้รับการประเมินกรอกข้อมูลในช่องสีเขียวและในช่องสัญลักษณ์ต่างๆ ให้ครบถ้วน
A4: ชื่อผู้บังคับบัญชา/ผู้ประเมิน | D4: ตำแหน่ง | H4: รอบการประเมิน | K4: ปีงบประมาณ
A6: ตอนที่ 1 | B6: ข้อมูลผู้รับการประเมิน | S6: บริหาร | T6: สอน
B7: ชื่อ | D7: นามสกุล | G7: ตำแหน่งทางวิชาการ | I7: หน่วยงาน | R7: FALSE | S7: 0 | T7: 24
B8: ตำแหน่งทางบริหาร | C8: ไม่ได้ปฏิบัติหน้าที่/ตำแหน่งทางบริหาร | E8: ปฏิบัติหน้าที่/ตำแหน่งบริหาร คือ | F8: หัวหน้าภาควิชา/ประธานสาขาวิชา/ประธานหลักสูตร | I8: ผู้ช่วยอธิการบดี/รองคณบดี/รองหัวหน้าส่วนราชการฯ | R8: FALSE | S8: 15 | T8: 16 | U8: =IF(R7,(1),(0)) -> 0
F9: รองอธิการบดี/คณบดี/หัวหน้าส่วนราชการฯ | I9: อธิการบดี | R9: FALSE | S9: 20 | T9: 12
R10: FALSE | S10: 25 | T10: 6
A11: ตอนที่ 2 | B11: ข้อมูลภาระงานตามข้อบังคับฯ ว่าด้วยการกำหนดภาระงานทางวิชาการของผู้ดำรงตำแหน่งอาจารย์ ผู้ช่วยศาสตราจารย์ รองศาสตราจารย์ และศาสตราจารย์ พ.ศ. 2565 | R11: FALSE | S11: 35 | T11: 0
B12: 2.1 ภาระงานสอนรายวิชา | R12: อาจารย์
B13: ไม่น้อยกว่า 1 รายวิชา ซึ่งเทียบค่าได้ไม่น้อยกว่าสามหน่วยกิตในระบบทวิภาค โดยไม่นับรวมรายวิชาฝึกงาน/ฝึกภาคสนาม/ฝึกประสบการณ์วิชาชีพ กรณีรายวิชาที่มีผู้สอนมากกว่าหนึ่งคนให้คำนวณภาระงานตามสัดส่วนจำนวนชั่วโมงที่ได้ทำการสอนจริง | R13: ผู้ช่วยศาสตราจารย์
B14: รายวิชาที่นำมาใช้ในการรายงาน (รายงานขั้นต่ำให้ครบตามเกณฑ์ฯ) | R14: รองศาสตราจารย์
B15: รายวิชา | E15: จำนวนหน่วยกิต | G15: หน่วยกิต | H15: จำนวนผู้สอน | J15: คน (นับรวมผู้รับการประเมิน) | M15: =F15/I15 -> #DIV/0! | N15: =IF(I15=0,0,F15/I15) -> 0 | R15: ศาสตราจารย์
B16: รายวิชา | E16: จำนวนหน่วยกิต | G16: หน่วยกิต | H16: จำนวนผู้สอน | J16: คน (นับรวมผู้รับการประเมิน) | M16: =F16/I16 -> #DIV/0! | N16: =IF(I16=0,0,F16/I16) -> 0
B17: รายวิชา | E17: จำนวนหน่วยกิต | G17: หน่วยกิต | H17: จำนวนผู้สอน | J17: คน (นับรวมผู้รับการประเมิน) | M17: =F17/I17 -> #DIV/0! | N17: =IF(I17=0,0,F17/I17) -> 0 | R17: คณะครุศาสตร์
B18: จำนวนหน่วยกิตรวม | F18: =N15+N16+N17 -> 0 | G18: หน่วยกิต | R18: คณะมนุษยศาสตร์และสังคมศาสตร์
B19: 2.2 ผลงานทางวิชาการ อย่างน้อย 1 รายการ ในรอบ 5 ปีย้อนหลัง ที่ดำเนินการสอดคล้องกับนิยาม รูปแบบ การเผยแพร่ และลักษณะการมีส่วนร่วมในผลงานทางวิชาการ ตามประกาศ ก.พ.อ. | R19: คณะวิทยาการจัดการ
B20: ระบุข้อมูลผลงานทางวิชาการในรูปแบบบรรณานุกรรม (APA 7th) (เผยแพร่ตามประกาศ ก.พ.อ.) | R20: คณะวิทยาศาสตร์และเทคโนโลยี
R21: คณะวิศวกรรมศาสตร์และเทคโนโลยีอุตสาหกรรม
R22: วิทยาลัยการดนตรี
B23: 2.3 ภาระงานทั้งหมด | C23: การคิดค่าภาระงานให้เป็นไปตามประกาศฯ เรื่องหลักเกณฑ์การคิดค่าภาระงานของผู้ดำรงตำแหน่งอาจารย์ ผู้ช่วยศาสตราจารย์ รองศาสตราจารย์ และศาสตราจารย์ | R23: บัณฑิตวิทยาลัย
C24: - ภาระงานบริหาร | D24: จำนวน | E24: =IF(R7,(0),IF(R8,(15),IF(R9,(20),IF(R10,(25),IF(R11,(35)))))) -> FALSE | F24: หน่วยชั่วโมงภาระงานต่อสัปดาห์
C25: - ภาระงานสอน | D25: จำนวน | E25: {='-สอน'!Q318:Q320} -> 0 | F25: หน่วยชั่วโมงภาระงานต่อสัปดาห์ | H25: =IF(R7,"ต้องไม่น้อยกว่า 24 หน่วยชั่วโมงภาระงานต่อสัปดาห์","")
C26: - ภาระงานวิจัยและงานวิชาการอื่น | D26: จำนวน | E26: {='-วิจัยและงานวิชาการอื่น'!P84:U86} -> 0 | F26: หน่วยชั่วโมงภาระงานต่อสัปดาห์
C27: - ภาระงานบริการวิชาการ | D27: จำนวน | E27: {='-บริการวิชาการ'!O155:Q157} -> 0 | F27: หน่วยชั่วโมงภาระงานต่อสัปดาห์
C28: - ภาระงานทำนุบำรุงศิลปวัฒนธรรม | D28: จำนวน | E28: {='-ทำนุบำรุงศิลปวัฒนธรรม'!K36:L38} -> 0 | F28: หน่วยชั่วโมงภาระงานต่อสัปดาห์ | H28: =IF(R7,"ต้องมีครอบคลุมภาระงานทำนุบำรุงศิลปวัฒนธรรม","")
C29: - ภาระงานอื่นๆ | D29: จำนวน | E29: ='-อื่นๆ'!I75 -> 0 | F29: หน่วยชั่วโมงภาระงานต่อสัปดาห์ | H29: =IF(R7,"ต้องมีครอบคลุมภาระงานอื่นๆ","")
C30: ภาระงานทั้งหมด | D30: จำนวน | E30: =SUM(E24:E29) -> 0 | F30: หน่วยชั่วโมงภาระงานต่อสัปดาห์ | H30: =IF(E30<35,"ภาระงานทั้งหมดยังไม่ครบตามภาระงานขั้นต่ำ 35 หน่วยชั่วโมงภาระงานต่อสัปดาห์","") -> ภาระงานทั้งหมดยังไม่ครบตามภาระงานขั้นต่ำ 35 หน่วยชั่วโมงภาระงานต่อสัปดาห์
A31: ผลการประเมินภาระงานตามข้อบังคับ | C31: (ต้องผ่านทั้งข้อ 2.1 + 2.2 + 2.3) | D31: ผ่าน | E31: ไม่ผ่าน | F31: เนื่องจาก
A32: ตอนที่ 3 | B32: ตัวชี้วัดและเกณฑ์คะแนนการประเมินผลสัมฤทธิ์ของงาน
A33: ลำดับ | C33: รายการประเมิน | D33: เกณฑ์คะแนน | I33: คะแนนเต็ม | J33: ค่าถ่วงน้ำหนัก | K33: ค่าเป้าหมาย | L33: ผลการประเมินตนเอง | N33: ผลการประเมิน โดยผู้ประเมิน
D34: 1 | E34: 2 | F34: 3 | G34: 4 | H34: 5 | N34: คะแนน | O34: ผลถ่วงน้ำหนัก
A35: 1 | B35: ด้านการสอน (ค่าน้ำหนัก 40%)
B36: 1.1 การจัดทำรายละเอียดของรายวิชาที่เน้นผลลัพธ์การเรียนรู้เป็นสำคัญ และนำส่งตามกำหนดเวลา | D36: มีการจัดทำรายละเอียดของรายวิชาที่เน้นผลลัพธ์การเรียนรู้เป็นสำคัญ และ นำส่งตามกำหนดเวลา น้อยกว่าร้อยละ 40 ของรายวิชาที่รับผิดชอบ | E36: มีการจัดทำรายละเอียดของรายวิชาที่เน้นผลลัพธ์การเรียนรู้เป็นสำคัญ และ นำส่งตามกำหนดเวลา ไม่น้อยกว่าร้อยละ 40 ของรายวิชาที่รับผิดชอบ | F36: มีการจัดทำรายละเอียดของรายวิชาที่เน้นผลลัพธ์การเรียนรู้เป็นสำคัญ และ นำส่งตามกำหนดเวลา ไม่น้อยกว่าร้อยละ 60 ของรายวิชาที่รับผิดชอบ | G36: มีการจัดทำรายละเอียดของรายวิชาที่เน้นผลลัพธ์การเรียนรู้เป็นสำคัญ และ นำส่งตามกำหนดเวลา ไม่น้อยกว่าร้อยละ 80 ของรายวิชาที่รับผิดชอบ | H36: ทุกรายวิชามีการจัดทำรายละเอียดของรายวิชาที่เน้นผลลัพธ์การเรียนรู้เป็นสำคัญ และ นำส่งตามกำหนดเวลา | I36: 5 | J36: 1 | M36: =L36*J36 -> 0 | O36: =N36*M36 -> 0
B37: 1.2 ร้อยละของความสำเร็จในการผลิตสื่อการสอน/เอกสารประกอบการสอน/เอกสารคำสอน/ตำรา/หนังสือ เพื่อใช้ในการจัดการเรียนการสอนหรือการขอกำหนดตำแหน่งทางวิชาการ | D37: มีการผลิตสื่อการสอน/เอกสารประกอบการสอน/เอกสารคำสอน/ตำรา/หนังสือ เพื่อใช้ในการจัดการเรียนการสอนหรือการขอกำหนดตำแหน่งทางวิชาการ น้อยกว่าร้อยละ 25 ของรายวิชาที่รับผิดชอบ | E37: มีการผลิตสื่อการสอน/เอกสารประกอบการสอน/เอกสารคำสอน/ตำรา/หนังสือ เพื่อใช้ในการจัดการเรียนการสอนหรือการขอกำหนดตำแหน่งทางวิชาการ ไม่น้อยกว่าร้อยละ 25 ของรายวิชาที่รับผิดชอบ | F37: มีการผลิตสื่อการสอน/เอกสารประกอบการสอน/เอกสารคำสอน/ตำรา/หนังสือ เพื่อใช้ในการจัดการเรียนการสอนหรือการขอกำหนดตำแหน่งทางวิชาการ ไม่น้อยกว่าร้อยละ 50 ของรายวิชาที่รับผิดชอบ | G37: มีการผลิตสื่อการสอน/เอกสารประกอบการสอน/เอกสารคำสอน/ตำรา/หนังสือ เพื่อใช้ในการจัดการเรียนการสอนหรือการขอกำหนดตำแหน่งทางวิชาการ ไม่น้อยกว่าร้อยละ 75 ของรายวิชาที่รับผิดชอบ | H37: ทุกรายวิชามีการผลิตสื่อการสอน/เอกสารประกอบการสอน/เอกสารคำสอน/ตำรา/หนังสือ เพื่อใช้ในการจัดการเรียนการสอนหรือการขอกำหนดตำแหน่งทางวิชาการ | I37: 5 | J37: 1 | M37: =L37*J37 -> 0 | O37: =N37*M37 -> 0
B38: 1.3 การส่งผลการเรียน และจัดทำรายงานผลการดำเนินการของรายวิชา โดยนำส่งตามกำหนดเวลา | D38: มีการส่งผลการเรียน และจัดทำรายงานผลการดำเนินการของรายวิชา โดยนำส่งตามกำหนดเวลา น้อยกว่าร้อยละ 40 ของรายวิชาที่รับผิดชอบ | E38: มีการส่งผลการเรียน และจัดทำรายงานผลการดำเนินการของรายวิชา โดยนำส่งตามกำหนดเวลา ไม่น้อยกว่าร้อยละ 40 ของรายวิชาที่รับผิดชอบ | F38: มีการส่งผลการเรียน และจัดทำรายงานผลการดำเนินการของรายวิชา โดยนำส่งตามกำหนดเวลา ไม่น้อยกว่าร้อยละ 60 ของรายวิชาที่รับผิดชอบ | G38: มีการส่งผลการเรียน และจัดทำรายงานผลการดำเนินการของรายวิชา โดยนำส่งตามกำหนดเวลา ไม่น้อยกว่าร้อยละ 80 ของรายวิชาที่รับผิดชอบ | H38: ทุกรายวิชามีการส่งผลการเรียน และจัดทำรายงานผลการดำเนินการของรายวิชา โดยนำส่งตามกำหนดเวลา | I38: 5 | J38: 1 | M38: =L38*J38 -> 0 | O38: =N38*M38 -> 0
B39: 1.4 ผลการประเมินการสอนโดยผู้เรียน | D39: 1.00 - 1.50 คะแนน | E39: 1.51 - 2.50 คะแนน | F39: 2.51 - 3.50 คะแนน | G39: 3.51 - 4.50 คะแนน | H39: 4.51 - 5.00 คะแนน | I39: 5 | J39: 1 | M39: =L39*J39 -> 0 | O39: =N39*M39 -> 0
B40: 1.5 ร้อยละของจำนวนนักศึกษาที่สำเร็จตามแผนการศึกษา | G40: จำนวนนักศึกษาที่สำเร็จการศึกษาตามแผนการศึกษาของหลักสูตร | H40: x 5 | I40: 5 | J40: 1 | M40: =L40*J40 -> 0 | O40: 0
G41: (จำนวนนักศึกษารับเข้าทั้งหมด - จำนวนนักศึกษาพ้นสภาพ+ลาออก+ย้ายสาขา)
...

Sheet -สอน
A1: ภาระงานสอน (การคิดค่าภาระงานสอน ให้คิดได้เฉพาะภาระงานสอนที่ไม่ได้รับค่าตอบแทนเท่านั้น)
A2: 1.1+1.2 | C2: การสอนรายวิชาบรรยายและรายวิชาปฏิบัติในระดับปริญญาตรีและระดับบัณฑิตศึกษา (กรอกแยกรายวิชาและแยกหมู่เรียน)
C3: ที่ | D3: รหัสวิชา | E3: รายวิชา | F3: จำนวนหน่วยกิต | J3: จำนวนชั่วโมง | K3: ระดับปริญญา(ระบุ /) | O3: ตัวคูณ | P3: หมู่เรียน | Q3: จำนวนผู้เรียน | R3: ตัวคูณ | S3: จำนวนผู้สอน | T3: จำนวนสัปดาห์ที่ปฏิบัติการสอน(15 สัปดาห์/ภาคการศึกษา) | U3: ตัวคูณ | V3: รวม
F4: หน่วยกิต | G4: (ท | H4: -ป- | I4: อ) | K4: ตรี | L4: ป.บัณฑิต | M4: โท | N4: เอก
C5: 1. | J5: =G5+H5 -> 0 | O5: =IF(K5="/",2,IF(L5="/",2.5,IF('-สอน'!M5="/",3,IF('-สอน'!N5="/",3.5,0)))) -> 0 | R5: =IF(Q5>=125,2.75, IF(Q5>=106,2.5, IF(Q5>=91,2.25,IF(Q5>=76,2, IF(Q5>=61,1.75, IF(Q5>=46,1.5, IF(Q5>=31,1.25, IF(Q5>=1,1,0)))))))) -> 0 | U5: =T5/15 -> 0 | V5: =IFERROR(((O5*J5*R5)/S5)*U5,0) -> 0
C6: 2. | J6: =G6+H6 -> 0 | O6: =IF(K6="/",2,IF(L6="/",2.5,IF('-สอน'!M6="/",3,IF('-สอน'!N6="/",3.5,0)))) -> 0 | R6: =IF(Q6>=125,2.75, IF(Q6>=106,2.5, IF(Q6>=91,2.25,IF(Q6>=76,2, IF(Q6>=61,1.75, IF(Q6>=46,1.5, IF(Q6>=31,1.25, IF(Q6>=1,1,0)))))))) -> 0 | U6: =T6/15 -> 0 | V6: =IFERROR(((O6*J6*R6)/S6)*U6,0) -> 0
C7: 3. | J7: =G7+H7 -> 0 | O7: =IF(K7="/",2,IF(L7="/",2.5,IF('-สอน'!M7="/",3,IF('-สอน'!N7="/",3.5,0)))) -> 0 | R7: =IF(Q7>=125,2.75, IF(Q7>=106,2.5, IF(Q7>=91,2.25,IF(Q7>=76,2, IF(Q7>=61,1.75, IF(Q7>=46,1.5, IF(Q7>=31,1.25, IF(Q7>=1,1,0)))))))) -> 0 | U7: =T7/15 -> 0 | V7: =IFERROR(((O7*J7*R7)/S7)*U7,0) -> 0
C8: 4. | J8: =G8+H8 -> 0 | O8: =IF(K8="/",2,IF(L8="/",2.5,IF('-สอน'!M8="/",3,IF('-สอน'!N8="/",3.5,0)))) -> 0 | R8: =IF(Q8>=125,2.75, IF(Q8>=106,2.5, IF(Q8>=91,2.25,IF(Q8>=76,2, IF(Q8>=61,1.75, IF(Q8>=46,1.5, IF(Q8>=31,1.25, IF(Q8>=1,1,0)))))))) -> 0 | U8: =T8/15 -> 0 | V8: =IFERROR(((O8*J8*R8)/S8)*U8,0) -> 0
C9: 5. | J9: =G9+H9 -> 0 | O9: =IF(K9="/",2,IF(L9="/",2.5,IF('-สอน'!M9="/",3,IF('-สอน'!N9="/",3.5,0)))) -> 0 | R9: =IF(Q9>=125,2.75, IF(Q9>=106,2.5, IF(Q9>=91,2.25,IF(Q9>=76,2, IF(Q9>=61,1.75, IF(Q9>=46,1.5, IF(Q9>=31,1.25, IF(Q9>=1,1,0)))))))) -> 0 | U9: =T9/15 -> 0 | V9: =IFERROR(((O9*J9*R9)/S9)*U9,0) -> 0
C10: 6. | J10: =G10+H10 -> 0 | O10: =IF(K10="/",2,IF(L10="/",2.5,IF('-สอน'!M10="/",3,IF('-สอน'!N10="/",3.5,0)))) -> 0 | R10: =IF(Q10>=125,2.75, IF(Q10>=106,2.5, IF(Q10>=91,2.25,IF(Q10>=76,2, IF(Q10>=61,1.75, IF(Q10>=46,1.5, IF(Q10>=31,1.25, IF(Q10>=1,1,0)))))))) -> 0 | U10: =T10/15 -> 0 | V10: =IFERROR(((O10*J10*R10)/S10)*U10,0) -> 0
C11: 7. | J11: =G11+H11 -> 0 | O11: =IF(K11="/",2,IF(L11="/",2.5,IF('-สอน'!M11="/",3,IF('-สอน'!N11="/",3.5,0)))) -> 0 | R11: =IF(Q11>=125,2.75, IF(Q11>=106,2.5, IF(Q11>=91,2.25,IF(Q11>=76,2, IF(Q11>=61,1.75, IF(Q11>=46,1.5, IF(Q11>=31,1.25, IF(Q11>=1,1,0)))))))) -> 0 | U11: =T11/15 -> 0 | V11: =IFERROR(((O11*J11*R11)/S11)*U11,0) -> 0
C12: 8. | J12: =G12+H12 -> 0 | O12: =IF(K12="/",2,IF(L12="/",2.5,IF('-สอน'!M12="/",3,IF('-สอน'!N12="/",3.5,0)))) -> 0 | R12: =IF(Q12>=125,2.75, IF(Q12>=106,2.5, IF(Q12>=91,2.25,IF(Q12>=76,2, IF(Q12>=61,1.75, IF(Q12>=46,1.5, IF(Q12>=31,1.25, IF(Q12>=1,1,0)))))))) -> 0 | U12: =T12/15 -> 0 | V12: =IFERROR(((O12*J12*R12)/S12)*U12,0) -> 0
C13: 9. | J13: =G13+H13 -> 0 | O13: =IF(K13="/",2,IF(L13="/",2.5,IF('-สอน'!M13="/",3,IF('-สอน'!N13="/",3.5,0)))) -> 0 | R13: =IF(Q13>=125,2.75, IF(Q13>=106,2.5, IF(Q13>=91,2.25,IF(Q13>=76,2, IF(Q13>=61,1.75, IF(Q13>=46,1.5, IF(Q13>=31,1.25, IF(Q13>=1,1,0)))))))) -> 0 | U13: =T13/15 -> 0 | V13: =IFERROR(((O13*J13*R13)/S13)*U13,0) -> 0
C14: 10. | J14: =G14+H14 -> 0 | O14: =IF(K14="/",2,IF(L14="/",2.5,IF('-สอน'!M14="/",3,IF('-สอน'!N14="/",3.5,0)))) -> 0 | R14: =IF(Q14>=125,2.75, IF(Q14>=106,2.5, IF(Q14>=91,2.25,IF(Q14>=76,2, IF(Q14>=61,1.75, IF(Q14>=46,1.5, IF(Q14>=31,1.25, IF(Q14>=1,1,0)))))))) -> 0 | U14: =T14/15 -> 0 | V14: =IFERROR(((O14*J14*R14)/S14)*U14,0) -> 0
C15: 11. | J15: =G15+H15 -> 0 | O15: =IF(K15="/",2,IF(L15="/",2.5,IF('-สอน'!M15="/",3,IF('-สอน'!N15="/",3.5,0)))) -> 0 | R15: =IF(Q15>=125,2.75, IF(Q15>=106,2.5, IF(Q15>=91,2.25,IF(Q15>=76,2, IF(Q15>=61,1.75, IF(Q15>=46,1.5, IF(Q15>=31,1.25, IF(Q15>=1,1,0)))))))) -> 0 | U15: =T15/15 -> 0 | V15: =IFERROR(((O15*J15*R15)/S15)*U15,0) -> 0
C16: 12. | J16: =G16+H16 -> 0 | O16: =IF(K16="/",2,IF(L16="/",2.5,IF('-สอน'!M16="/",3,IF('-สอน'!N16="/",3.5,0)))) -> 0 | R16: =IF(Q16>=125,2.75, IF(Q16>=106,2.5, IF(Q16>=91,2.25,IF(Q16>=76,2, IF(Q16>=61,1.75, IF(Q16>=46,1.5, IF(Q16>=31,1.25, IF(Q16>=1,1,0)))))))) -> 0 | U16: =T16/15 -> 0 | V16: =IFERROR(((O16*J16*R16)/S16)*U16,0) -> 0
... C23: 19. | J23: =G23+H23 -> 0 | O23: =IF(K23="/",2,IF(L23="/",2.5,IF('-สอน'!M23="/",3,IF('-สอน'!N23="/",3.5,0)))) -> 0 | R23: =IF(Q23>=125,2.75, IF(Q23>=106,2.5, IF(Q23>=91,2.25,IF(Q23>=76,2, IF(Q23>=61,1.75, IF(Q23>=46,1.5, IF(Q23>=31,1.25, IF(Q23>=1,1,0)))))))) -> 0 | U23: =T23/15 -> 0 | V23: =IFERROR(((O23*J23*R23)/S23)*U23,0) -> 0
C24: รวมจำนวนหน่วยชั่วโมงภาระงานต่อสัปดาห์ | V24: =SUM(V5:V23) -> 0
A25: 1.3 | B25: การสอนหรือเป็นวิทยากรฝึกอบรมหลักสูตรระยะสั้นของมหาวิทยาลัย
C26: ที่ | D26: ชื่อหลักสูตรฝึกอบรมระยะสั้น | K26: หน่วยงานที่จัด | P26: จำนวนชั่วโมงของหลักสูตรฯ | S26: จำนวนชั่วโมงที่สอนหรือเป็นวิทยากร | V26: รวม
C27: 1. | V27: =S27*0.13 -> 0
C28: 2. | V28: =S28*0.13 -> 0
C29: 3. | V29: =S29*0.13 -> 0
C30: 4. | V30: =S30*0.13 -> 0
C31: 5. | V31: =S31*0.13 -> 0
C32: 6. | V32: =S32*0.13 -> 0
C33: 7. | V33: =S33*0.13 -> 0
C34: 8. | V34: =S34*0.13 -> 0
C35: 9. | V35: =S35*0.13 -> 0
C36: 10. | V36: =S36*0.13 -> 0
C37: รวมจำนวนหน่วยชั่วโมงภาระงานต่อสัปดาห์ | V37: =SUM(V27:V36) -> 0
A38: 1.4 | B38: รายวิชาฝึกประสบการณ์วิชาชีพ หรือสหกิจศึกษา
C39: ที่ | D39: 1190402 | E39: รายวิชา | F39: จำนวนหน่วยกิต | K39: ประเภทรายวิชา(ระบุ /) | O39: ตัวคูณ | P39: หมู่เรียน | Q39: จำนวนผู้เรียน ที่รับผิดชอบ การนิเทศ | R39: ปรับค่า | S39: รวม
F40: หน่วยกิต | G40: (ท | H40: -ป- | I40: อ) | K40: วิชาเตรียมฝึกประสบการณ์วิชาชีพ หรือเตรียมสหกิจศึกษา | M40: วิชาฝึกประสบการณ์วิชาชีพ หรือสหกิจศึกษา
C41: 1. | O41: =IF(K41="/",0.4,IF(M41="/",0.8)) -> FALSE | R41: =O41*Q41 -> 0 | S41: =IF(R41>=10,10,R41) -> 0
C42: 2. | O42: =IF(K42="/",0.4,IF(M42="/",0.8)) -> FALSE | R42: =O42*Q42 -> 0 | S42: =IF(R42>=10,10,R42) -> 0
C43: 3. | O43: =IF(K43="/",0.4,IF(M43="/",0.8)) -> FALSE | R43: =O43*Q43 -> 0 | S43: =IF(R43>=10,10,R43) -> 0
C44: 4. | O44: =IF(K44="/",0.4,IF(M44="/",0.8)) -> FALSE | R44: =O44*Q44 -> 0 | S44: =IF(R44>=10,10,R44) -> 0
C45: 5. | O45: =IF(K45="/",0.4,IF(M45="/",0.8)) -> FALSE | R45: =O45*Q45 -> 0 | S45: =IF(R45>=10,10,R45) -> 0
C46: 6. | O46: =IF(K46="/",0.4,IF(M46="/",0.8)) -> FALSE | R46: =O46*Q46 -> 0 | S46: =IF(R46>=10,10,R46) -> 0
...

Sheet -วิจัยและงานวิชาการอื่น
A1: ภาระงานวิจัยและงานวิชาการอื่น
A2: 2.1 | B2: งานวิจัย
C3: ที่ | D3: ชื่อชุดโครงการวิจัย/โครงการวิจัย | F3: แหล่งทุน (โปรดระบุเครื่องหมาย / ตามความเป็นจริง) | P3: จำนวนเงินทุนสนับสนุนการวิจัยจำแนกตามสาขาวิชาของโครงการวิจัย | AF3: จำนวนผู้มีส่วนร่วมในการวิจัย | AG3: รวม
F4: แหล่งทุนภายนอกมหาวิทยาลัย | I4: แหล่งทุนภายในมหาวิทยาลัย | L4: ไม่ได้ขอรับทุนจากแหล่งทุนใดๆ
F5: ผู้อำนวยการ/ผู้ประสานงานชุดโครงการวิจัย | G5: หัวหน้าโครงการวิจัย | H5: ผู้ร่วมวิจัย | I5: ผู้อำนวยการ/ผู้ประสานงานชุดโครงการวิจัย | J5: หัวหน้าโครงการวิจัย | K5: ผู้ร่วมวิจัย | L5: ผู้อำนวยการ/ผู้ประสานงานชุดโครงการวิจัย | M5: หัวหน้าโครงการวิจัย | N5: ผู้ร่วมวิจัย | P5: วิทยาศาสตร์และเทคโนโลยี | U5: วิทยาศาสตร์สุขภาพ | Z5: มนุษยศาสตร์และสังคมศาสตร์
C6: 1. | AG6: =IFERROR(AE6/AF6,0) -> 0 | AH6: =IF(COUNTA(F6:N6)>1,"กรุณาระบุเพียง 1 ตำแหน่ง",COUNTA(F6)*10+COUNTA(H6)*8+COUNTA(I6)*5+COUNTA(K6)*4+COUNTA(L6)*3+COUNTA(N6)*2.5) -> 0
C7: 2. | AG7: =IFERROR(AE7/AF7,0) -> 0 | AH7: =IF(COUNTA(F7:N7)>1,"กรุณาระบุเพียง 1 ตำแหน่ง",COUNTA(F7)*10+COUNTA(H7)*8+COUNTA(I7)*5+COUNTA(K7)*4+COUNTA(L7)*3+COUNTA(N7)*2.5) -> 0
C8: 3. | O8: =IF(F8="/",8,IF(G8="/",8,IF(H8="/",6,IF(I8="/",6,IF(J8="/",6,IF(K8="/",4,IF(L8="/",4,IF(M8="/",4,IF(N8="/",3))))))))) -> FALSE | Q8: =IF(P8<60000,"60000",P8-60000) -> 60000 | R8: =(Q8/30000) -> 2 | S8: =ROUNDUP(R8,0) -> 2 | T8: =((S8*0.25)+O8) -> 0.5 | V8: =IF(U8<50000,"50000",U8-50000) -> 50000 | W8: =(V8/25000) -> 2 | X8: =ROUNDUP(W8,0) -> 2 | Y8: =((X8*0.25)+O8) -> 0.5 | AA8: =IF(Z8<25000,"25000",Z8-25000) -> 25000 | AB8: =(AA8/12500) -> 2 | AC8: =ROUNDUP(AB8,0) -> 2 | AD8: =((AC8*0.25)+O8) -> 0.5 | AE8: =IF(P8>=1,T8,IF(U8>=1,Y8,IF(Z8>=1,AD8,0))) -> 0 | AG8: =IFERROR(AE8/AF8,0) -> 0 | AH8: =IF(COUNTA(F8:N8)>1,"กรุณาระบุเพียง 1 ตำแหน่ง",COUNTA(F8)*10+COUNTA(H8)*8+COUNTA(I8)*5+COUNTA(K8)*4+COUNTA(L8)*3+COUNTA(N8)*2.5) -> 0
C9: 4. | O9: =IF(F9="/",8,IF(G9="/",8,IF(H9="/",6,IF(I9="/",6,IF(J9="/",6,IF(K9="/",4,IF(L9="/",4,IF(M9="/",4,IF(N9="/",3))))))))) -> FALSE | Q9: =IF(P9<60000,"60000",P9-60000) -> 60000 | R9: =(Q9/30000) -> 2 | S9: =ROUNDUP(R9,0) -> 2 | T9: =((S9*0.25)+O9) -> 0.5 | V9: =IF(U9<50000,"50000",U9-50000) -> 50000 | W9: =(V9/25000) -> 2 | X9: =ROUNDUP(W9,0) -> 2 | Y9: =((X9*0.25)+O9) -> 0.5 | AA9: =IF(Z9<25000,"25000",Z9-25000) -> 25000 | AB9: =(AA9/12500) -> 2 | AC9: =ROUNDUP(AB9,0) -> 2 | AD9: =((AC9*0.25)+O9) -> 0.5 | AE9: =IF(P9>=1,T9,IF(U9>=1,Y9,IF(Z9>=1,AD9,0))) -> 0 | AG9: =IFERROR(AE9/AF9,0) -> 0 | AH9: =IF(COUNTA(F9:N9)>1,"กรุณาระบุเพียง 1 ตำแหน่ง",COUNTA(F9)*10+COUNTA(H9)*8+COUNTA(I9)*5+COUNTA(K9)*4+COUNTA(L9)*3+COUNTA(N9)*2.5) -> 0
C10: 5. | O10: =IF(F10="/",8,IF(G10="/",8,IF(H10="/",6,IF(I10="/",6,IF(J10="/",6,IF(K10="/",4,IF(L10="/",4,IF(M10="/",4,IF(N10="/",3))))))))) -> FALSE | Q10: =IF(P10<60000,"60000",P10-60000) -> 60000 | R10: =(Q10/30000) -> 2 | S10: =ROUNDUP(R10,0) -> 2 | T10: =((S10*0.25)+O10) -> 0.5 | V10: =IF(U10<50000,"50000",U10-50000) -> 50000 | W10: =(V10/25000) -> 2 | X10: =ROUNDUP(W10,0) -> 2 | Y10: =((X10*0.25)+O10) -> 0.5 | AA10: =IF(Z10<25000,"25000",Z10-25000) -> 25000 | AB10: =(AA10/12500) -> 2 | AC10: =ROUNDUP(AB10,0) -> 2 | AD10: =((AC10*0.25)+O10) -> 0.5 | AE10: =IF(P10>=1,T10,IF(U10>=1,Y10,IF(Z10>=1,AD10,0))) -> 0 | AG10: =IFERROR(AE10/AF10,0) -> 0 | AH10: =IF(COUNTA(F10:N10)>1,"กรุณาระบุเพียง 1 ตำแหน่ง",COUNTA(F10)*10+COUNTA(H10)*8+COUNTA(I10)*5+COUNTA(K10)*4+COUNTA(L10)*3+COUNTA(N10)*2.5) -> 0
C11: 6. | O11: =IF(F11="/",8,IF(G11="/",8,IF(H11="/",6,IF(I11="/",6,IF(J11="/",6,IF(K11="/",4,IF(L11="/",4,IF(M11="/",4,IF(N11="/",3))))))))) -> FALSE | Q11: =IF(P11<60000,"60000",P11-60000) -> 60000 | R11: =(Q11/30000) -> 2 | S11: =ROUNDUP(R11,0) -> 2 | T11: =((S11*0.25)+O11) -> 0.5 | V11: =IF(U11<50000,"50000",U11-50000) -> 50000 | W11: =(V11/25000) -> 2 | X11: =ROUNDUP(W11,0) -> 2 | Y11: =((X11*0.25)+O11) -> 0.5 | AA11: =IF(Z11<25000,"25000",Z11-25000) -> 25000 | AB11: =(AA11/12500) -> 2 | AC11: =ROUNDUP(AB11,0) -> 2 | AD11: =((AC11*0.25)+O11) -> 0.5 | AE11: =IF(P11>=1,T11,IF(U11>=1,Y11,IF(Z11>=1,AD11,0))) -> 0 | AG11: =IFERROR(AE11/AF11,0) -> 0 | AH11: =IF(COUNTA(F11:N11)>1,"กรุณาระบุเพียง 1 ตำแหน่ง",COUNTA(F11)*10+COUNTA(H11)*8+COUNTA(I11)*5+COUNTA(K11)*4+COUNTA(L11)*3+COUNTA(N11)*2.5) -> 0
C12: 7. | O12: =IF(F12="/",8,IF(G12="/",8,IF(H12="/",6,IF(I12="/",6,IF(J12="/",6,IF(K12="/",4,IF(L12="/",4,IF(M12="/",4,IF(N12="/",3))))))))) -> FALSE | Q12: =IF(P12<60000,"60000",P12-60000) -> 60000 | R12: =(Q12/30000) -> 2 | S12: =ROUNDUP(R12,0) -> 2 | T12: =((S12*0.25)+O12) -> 0.5 | V12: =IF(U12<50000,"50000",U12-50000) -> 50000 | W12: =(V12/25000) -> 2 | X12: =ROUNDUP(W12,0) -> 2 | Y12: =((X12*0.25)+O12) -> 0.5 | AA12: =IF(Z12<25000,"25000",Z12-25000) -> 25000 | AB12: =(AA12/12500) -> 2 | AC12: =ROUNDUP(AB12,0) -> 2 | AD12: =((AC12*0.25)+O12) -> 0.5 | AE12: =IF(P12>=1,T12,IF(U12>=1,Y12,IF(Z12>=1,AD12,0))) -> 0 | AG12: =IFERROR(AE12/AF12,0) -> 0 | AH12: =IF(COUNTA(F12:N12)>1,"กรุณาระบุเพียง 1 ตำแหน่ง",COUNTA(F12)*10+COUNTA(H12)*8+COUNTA(I12)*5+COUNTA(K12)*4+COUNTA(L12)*3+COUNTA(N12)*2.5) -> 0
C13: 8. | O13: =IF(F13="/",8,IF(G13="/",8,IF(H13="/",6,IF(I13="/",6,IF(J13="/",6,IF(K13="/",4,IF(L13="/",4,IF(M13="/",4,IF(N13="/",3))))))))) -> FALSE | Q13: =IF(P13<60000,"60000",P13-60000) -> 60000 | R13: =(Q13/30000) -> 2 | S13: =ROUNDUP(R13,0) -> 2 | T13: =((S13*0.25)+O13) -> 0.5 | V13: =IF(U13<50000,"50000",U13-50000) -> 50000 | W13: =(V13/25000) -> 2 | X13: =ROUNDUP(W13,0) -> 2 | Y13: =((X13*0.25)+O13) -> 0.5 | AA13: =IF(Z13<25000,"25000",Z13-25000) -> 25000 | AB13: =(AA13/12500) -> 2 | AC13: =ROUNDUP(AB13,0) -> 2 | AD13: =((AC13*0.25)+O13) -> 0.5 | AE13: =IF(P13>=1,T13,IF(U13>=1,Y13,IF(Z13>=1,AD13,0))) -> 0 | AG13: =IFERROR(AE13/AF13,0) -> 0 | AH13: =IF(COUNTA(F13:N13)>1,"กรุณาระบุเพียง 1 ตำแหน่ง",COUNTA(F13)*10+COUNTA(H13)*8+COUNTA(I13)*5+COUNTA(K13)*4+COUNTA(L13)*3+COUNTA(N13)*2.5) -> 0
C14: 9. | O14: =IF(F14="/",8,IF(G14="/",8,IF(H14="/",6,IF(I14="/",6,IF(J14="/",6,IF(K14="/",4,IF(L14="/",4,IF(M14="/",4,IF(N14="/",3))))))))) -> FALSE | Q14: =IF(P14<60000,"60000",P14-60000) -> 60000 | R14: =(Q14/30000) -> 2 | S14: =ROUNDUP(R14,0) -> 2 | T14: =((S14*0.25)+O14) -> 0.5 | V14: =IF(U14<50000,"50000",U14-50000) -> 50000 | W14: =(V14/25000) -> 2 | X14: =ROUNDUP(W14,0) -> 2 | Y14: =((X14*0.25)+O14) -> 0.5 | AA14: =IF(Z14<25000,"25000",Z14-25000) -> 25000 | AB14: =(AA14/12500) -> 2 | AC14: =ROUNDUP(AB14,0) -> 2 | AD14: =((AC14*0.25)+O14) -> 0.5 | AE14: =IF(P14>=1,T14,IF(U14>=1,Y14,IF(Z14>=1,AD14,0))) -> 0 | AG14: =IFERROR(AE14/AF14,0) -> 0 | AH14: =IF(COUNTA(F14:N14)>1,"กรุณาระบุเพียง 1 ตำแหน่ง",COUNTA(F14)*10+COUNTA(H14)*8+COUNTA(I14)*5+COUNTA(K14)*4+COUNTA(L14)*3+COUNTA(N14)*2.5) -> 0
C15: 10. | O15: =IF(F15="/",8,IF(G15="/",8,IF(H15="/",6,IF(I15="/",6,IF(J15="/",6,IF(K15="/",4,IF(L15="/",4,IF(M15="/",4,IF(N15="/",3))))))))) -> FALSE | Q15: =IF(P15<60000,"60000",P15-60000) -> 60000 | R15: =(Q15/30000) -> 2 | S15: =ROUNDUP(R15,0) -> 2 | T15: =((S15*0.25)+O15) -> 0.5 | V15: =IF(U15<50000,"50000",U15-50000) -> 50000 | W15: =(V15/25000) -> 2 | X15: =ROUNDUP(W15,0) -> 2 | Y15: =((X15*0.25)+O15) -> 0.5 | AA15: =IF(Z15<25000,"25000",Z15-25000) -> 25000 | AB15: =(AA15/12500) -> 2 | AC15: =ROUNDUP(AB15,0) -> 2 | AD15: =((AC15*0.25)+O15) -> 0.5 | AE15: =IF(P15>=1,T15,IF(U15>=1,Y15,IF(Z15>=1,AD15,0))) -> 0 | AG15: =IFERROR(AE15/AF15,0) -> 0 | AH15: =IF(COUNTA(F15:N15)>1,"กรุณาระบุเพียง 1 ตำแหน่ง",COUNTA(F15)*10+COUNTA(H15)*8+COUNTA(I15)*5+COUNTA(K15)*4+COUNTA(L15)*3+COUNTA(N15)*2.5) -> 0
C16: รวมจำนวนหน่วยชั่วโมงภาระงานต่อสัปดาห์ | AG16: =SUM(AG6:AG15) -> 0
A17: 2.2 | B17: การเผยแพร่ผลงานวิจัย
B18: 2.1 | C18: กรณีจัดทำเป็นบทความวิจัย
C19: ที่ | D19: ชื่อบทความวิจัย | F19: ระดับการเผยแพร่ (โปรดระบุเครื่องหมาย / ตามความเป็นจริง (โดยบทความวิจัย 1 ผลงานสามารถคิดภาระงานได้ในตำแหน่งใดตำแหน่งหนึ่งเท่านั้น)) | AG19: รวม
F20: วารสารที่อยู่ในฐานข้อมูลระดับชาติ | I20: วารสารที่อยู่ในฐานข้อมูลระดับนานาชาติ | L20: เอกสารสืบเนื่องจากการประชุมทางวิชาการระดับชาติ | P20: เอกสารสืบเนื่องจากการประชุมทางวิชาการ(proceedings) ระดับนานาชาติ | AF20: เผยแพร่ด้วยวิธีการอื่นที่เป็นไปตามประกาศ ก.พ.อ.
F21: ผู้ประพันธ์อันดับแรก | G21: ผู้มีส่วนสำคัญทางปัญญา | H21: ผู้ประพันธ์บรรณกิจ | I21: ผู้ประพันธ์อันดับแรก | J21: ผู้มีส่วนสำคัญทางปัญญา | K21: ผู้ประพันธ์บรรณกิจ | L21: ผู้ประพันธ์อันดับแรก | M21: ผู้มีส่วนสำคัญทางปัญญา | N21: ผู้ประพันธ์บรรณกิจ | P21: ผู้ประพันธ์อันดับแรก | U21: ผู้ประพันธ์อันดับแรก | Z21: ผู้ประพันธ์บรรณกิจ
C22: 1. | AG22: =IF(COUNTA(F22:AF22)>1,"กรุณาระบุเพียง 1 ตำแหน่ง",COUNTA(F22)*5+COUNTA(G22)*4+COUNTA(H22)*4+COUNTA(I22)*7+COUNTA(J22)*6+COUNTA(K22)*6+COUNTA(L22)*2.5+COUNTA(M22)*1.5+COUNTA(N22)*1.5+COUNTA(P22)*4.5+COUNTA(U22)*3.5+COUNTA(Z22)*3.5+COUNTA(AF22)*2.5) -> 0 | AH22: =IF(COUNTA(F22:N22)>1,"กรุณาระบุเพียง 1 ตำแหน่ง",COUNTA(F22)*3+COUNTA(H22)*3+COUNTA(I22)*2+COUNTA(K22)*6+COUNTA(L22)*6+COUNTA(N22)*4) -> 0
C23: 2. | AG23: =IF(COUNTA(F23:AF23)>1,"กรุณาระบุเพียง 1 ตำแหน่ง",COUNTA(F23)*5+COUNTA(G23)*4+COUNTA(H23)*4+COUNTA(I23)*7+COUNTA(J23)*6+COUNTA(K23)*6+COUNTA(L23)*2.5+COUNTA(M23)*1.5+COUNTA(N23)*1.5+COUNTA(P23)*4.5+COUNTA(U23)*3.5+COUNTA(Z23)*3.5+COUNTA(AF23)*2.5) -> 0 | AH23: =IF(COUNTA(F23:N23)>1,"กรุณาระบุเพียง 1 ตำแหน่ง",COUNTA(F23)*3+COUNTA(H23)*3+COUNTA(I23)*2+COUNTA(K23)*6+COUNTA(L23)*6+COUNTA(N23)*4) -> 0
C24: 3. | AG24: =IF(COUNTA(F24:AF24)>1,"กรุณาระบุเพียง 1 ตำแหน่ง",COUNTA(F24)*5+COUNTA(G24)*4+COUNTA(H24)*4+COUNTA(I24)*7+COUNTA(J24)*6+COUNTA(K24)*6+COUNTA(L24)*2.5+COUNTA(M24)*1.5+COUNTA(N24)*1.5+COUNTA(P24)*4.5+COUNTA(U24)*3.5+COUNTA(Z24)*3.5+COUNTA(AF24)*2.5) -> 0 | AH24: =IF(COUNTA(F24:N24)>1,"กรุณาระบุเพียง 1 ตำแหน่ง",COUNTA(F24)*3+COUNTA(H24)*3+COUNTA(I24)*2+COUNTA(K24)*6+COUNTA(L24)*6+COUNTA(N24)*4) -> 0
C25: 4. | AG25: =IF(COUNTA(F25:AF25)>1,"กรุณาระบุเพียง 1 ตำแหน่ง",COUNTA(F25)*5+COUNTA(G25)*4+COUNTA(H25)*4+COUNTA(I25)*7+COUNTA(J25)*6+COUNTA(K25)*6+COUNTA(L25)*2.5+COUNTA(M25)*1.5+COUNTA(N25)*1.5+COUNTA(P25)*4.5+COUNTA(U25)*3.5+COUNTA(Z25)*3.5+COUNTA(AF25)*2.5) -> 0 | AH25: =IF(COUNTA(F25:N25)>1,"กรุณาระบุเพียง 1 ตำแหน่ง",COUNTA(F25)*3+COUNTA(H25)*3+COUNTA(I25)*2+COUNTA(K25)*6+COUNTA(L25)*6+COUNTA(N25)*4) -> 0
C26: 5. | AG26: =IF(COUNTA(F26:AF26)>1,"กรุณาระบุเพียง 1 ตำแหน่ง",COUNTA(F26)*5+COUNTA(G26)*4+COUNTA(H26)*4+COUNTA(I26)*7+COUNTA(J26)*6+COUNTA(K26)*6+COUNTA(L26)*2.5+COUNTA(M26)*1.5+COUNTA(N26)*1.5+COUNTA(P26)*4.5+COUNTA(U26)*3.5+COUNTA(Z26)*3.5+COUNTA(AF26)*2.5) -> 0 | AH26: =IF(COUNTA(F26:N26)>1,"กรุณาระบุเพียง 1 ตำแหน่ง",COUNTA(F26)*3+COUNTA(H26)*3+COUNTA(I26)*2+COUNTA(K26)*6+COUNTA(L26)*6+COUNTA(N26)*4) -> 0
C27: 6. | AG27: =IF(COUNTA(F27:AF27)>1,"กรุณาระบุเพียง 1 ตำแหน่ง",COUNTA(F27)*5+COUNTA(G27)*4+COUNTA(H27)*4+COUNTA(I27)*7+COUNTA(J27)*6+COUNTA(K27)*6+COUNTA(L27)*2.5+COUNTA(M27)*1.5+COUNTA(N27)*1.5+COUNTA(P27)*4.5+COUNTA(U27)*3.5+COUNTA(Z27)*3.5+COUNTA(AF27)*2.5) -> 0 | AH27: =IF(COUNTA(F27:N27)>1,"กรุณาระบุเพียง 1 ตำแหน่ง",COUNTA(F27)*3+COUNTA(H27)*3+COUNTA(I27)*2+COUNTA(K27)*6+COUNTA(L27)*6+COUNTA(N27)*4) -> 0
C28: 7. | AG28: =IF(COUNTA(F28:AF28)>1,"กรุณาระบุเพียง 1 ตำแหน่ง",COUNTA(F28)*5+COUNTA(G28)*4+COUNTA(H28)*4+COUNTA(I28)*7+COUNTA(J28)*6+COUNTA(K28)*6+COUNTA(L28)*2.5+COUNTA(M28)*1.5+COUNTA(N28)*1.5+COUNTA(P28)*4.5+COUNTA(U28)*3.5+COUNTA(Z28)*3.5+COUNTA(AF28)*2.5) -> 0 | AH28: =IF(COUNTA(F28:N28)>1,"กรุณาระบุเพียง 1 ตำแหน่ง",COUNTA(F28)*3+COUNTA(H28)*3+COUNTA(I28)*2+COUNTA(K28)*6+COUNTA(L28)*6+COUNTA(N28)*4) -> 0
C29: 8. | AG29: =IF(COUNTA(F29:AF29)>1,"กรุณาระบุเพียง 1 ตำแหน่ง",COUNTA(F29)*5+COUNTA(G29)*4+COUNTA(H29)*4+COUNTA(I29)*7+COUNTA(J29)*6+COUNTA(K29)*6+COUNTA(L29)*2.5+COUNTA(M29)*1.5+COUNTA(N29)*1.5+COUNTA(P29)*4.5+COUNTA(U29)*3.5+COUNTA(Z29)*3.5+COUNTA(AF29)*2.5) -> 0 | AH29: =IF(COUNTA(F29:N29)>1,"กรุณาระบุเพียง 1 ตำแหน่ง",COUNTA(F29)*3+COUNTA(H29)*3+COUNTA(I29)*2+COUNTA(K29)*6+COUNTA(L29)*6+COUNTA(N29)*4) -> 0
C30: 9. | AG30: =IF(COUNTA(F30:AF30)>1,"กรุณาระบุเพียง 1 ตำแหน่ง",COUNTA(F30)*5+COUNTA(G30)*4+COUNTA(H30)*4+COUNTA(I30)*7+COUNTA(J30)*6+COUNTA(K30)*6+COUNTA(L30)*2.5+COUNTA(M30)*1.5+COUNTA(N30)*1.5+COUNTA(P30)*4.5+COUNTA(U30)*3.5+COUNTA(Z30)*3.5+COUNTA(AF30)*2.5) -> 0 | AH30: =IF(COUNTA(F30:N30)>1,"กรุณาระบุเพียง 1 ตำแหน่ง",COUNTA(F30)*3+COUNTA(H30)*3+COUNTA(I30)*2+COUNTA(K30)*6+COUNTA(L30)*6+COUNTA(N30)*4) -> 0
C31: 10. | AG31: =IF(COUNTA(F31:AF31)>1,"กรุณาระบุเพียง 1 ตำแหน่ง",COUNTA(F31)*5+COUNTA(G31)*4+COUNTA(H31)*4+COUNTA(I31)*7+COUNTA(J31)*6+COUNTA(K31)*6+COUNTA(L31)*2.5+COUNTA(M31)*1.5+COUNTA(N31)*1.5+COUNTA(P31)*4.5+COUNTA(U31)*3.5+COUNTA(Z31)*3.5+COUNTA(AF31)*2.5) -> 0 | AH31: =IF(COUNTA(F31:N31)>1,"กรุณาระบุเพียง 1 ตำแหน่ง",COUNTA(F31)*3+COUNTA(H31)*3+COUNTA(I31)*2+COUNTA(K31)*6+COUNTA(L31)*6+COUNTA(N31)*4) -> 0
C32: รวมจำนวนหน่วยชั่วโมงภาระงานต่อสัปดาห์ | AG32: =SUM(AG22:AG31) -> 0
A34: 2.2 | B34: งานวิชาการอื่น
B35: ผลงานวิชาการในลักษณะอื่น ผลงานเฉพาะด้าน ตำรา และหนังสือ
C36: ที่ | D36: ชื่อผลงานทางวิชาการ | F36: ประเภทผลงานทางวิชาการ (โปรดระบุเครื่องหมาย / ตามความเป็นจริง (โดยผลงานทางวิชาการ 1 ผลงานสามารถคิดภาระงานได้ในตำแหน่งใดตำแหน่งหนึ่งเท่านั้น)) | J36: จำนวนผู้มีส่วนร่วมในการวิจัย | K36: รวม
F37: ประเภทงานวิชาการ
F38: ผลงานวิชาการในลักษณะอื่น | G38: ผลงานเฉพาะด้าน | H38: ตำรา | I38: หนังสือ
C39: 1. | K39: =IFERROR(O39/J39,0) -> 0 | O39: =IF(COUNTA(F39:I39)>1,"กรุณาระบุเพียง 1 ตำแหน่ง",COUNTA(F39)*7+COUNTA(G39)*7+COUNTA(H39)*7+COUNTA(I39)*7) -> 0
C40: 2. | K40: =IFERROR(O40/J40,0) -> 0
C41: 3. | K41: =IFERROR(O41/J41,0) -> 0
...

Sheet -บริการวิชาการ
A1: ภาระงานบริการวิชาการ
A2: 3.1 | B2: การเป็นวิทยากรฝึกอบรมให้แก่บุคคลภายนอก
B3: ที่ | C3: ชื่อหัวข้อการฝึกอบรม | E3: จำนวนชั่วโมงที่เป็นวิทยากรฝึกอบรมแก่บุคคลภายนอก | F3: หน่วยงานที่จัดฝึกอบรม (ระบุชื่อหน่วยงานที่จัด)
F4: หน่วยงานภายใน มบส. | G4: หน่วยงานภายนอก มบส.
B5: 1. | H5: =COUNTA(F5) -> 0 | I5: =IF(H5>0,E5*0.13,0) -> 0 | J5: =COUNTA(G5) -> 0 | K5: =IF(J5>0,E5*0.13,0) -> 0
B6: 2. | H6: =COUNTA(F6) -> 0 | I6: =IF(H6>0,E6*0.13,0) -> 0 | J6: =COUNTA(G6) -> 0 | K6: =IF(J6>0,E6*0.13,0) -> 0
B7: 3. | H7: =COUNTA(F7) -> 0 | I7: =IF(H7>0,E7*0.13,0) -> 0 | J7: =COUNTA(G7) -> 0 | K7: =IF(J7>0,E7*0.13,0) -> 0
B8: 4. | H8: =COUNTA(F8) -> 0 | I8: =IF(H8>0,E8*0.13,0) -> 0 | J8: =COUNTA(G8) -> 0 | K8: =IF(J8>0,E8*0.13,0) -> 0
B9: 5. | H9: =COUNTA(F9) -> 0 | I9: =IF(H9>0,E9*0.13,0) -> 0 | J9: =COUNTA(G9) -> 0 | K9: =IF(J9>0,E9*0.13,0) -> 0
B10: 6. | H10: =COUNTA(F10) -> 0 | I10: =IF(H10>0,E10*0.13,0) -> 0 | J10: =COUNTA(G10) -> 0 | K10: =IF(J10>0,E10*0.13,0) -> 0
B11: 7. | H11: =COUNTA(F11) -> 0 | I11: =IF(H11>0,E11*0.13,0) -> 0 | J11: =COUNTA(G11) -> 0 | K11: =IF(J11>0,E11*0.13,0) -> 0
B12: 8. | H12: =COUNTA(F12) -> 0 | I12: =IF(H12>0,E12*0.13,0) -> 0 | J12: =COUNTA(G12) -> 0 | K12: =IF(J12>0,E12*0.13,0) -> 0
B13: 9. | H13: =COUNTA(F13) -> 0 | I13: =IF(H13>0,E13*0.13,0) -> 0 | J13: =COUNTA(G13) -> 0 | K13: =IF(J13>0,E13*0.13,0) -> 0
B14: 10. | H14: =COUNTA(F14) -> 0 | I14: =IF(H14>0,E14*0.13,0) -> 0 | J14: =COUNTA(G14) -> 0 | K14: =IF(J14>0,E14*0.13,0) -> 0
B15: 11. | H15: =COUNTA(F15) -> 0 | I15: =IF(H15>0,E15*0.13,0) -> 0 | J15: =COUNTA(G15) -> 0 | K15: =IF(J15>0,E15*0.13,0) -> 0
B16: 12. | H16: =COUNTA(F16) -> 0 | I16: =IF(H16>0,E16*0.13,0) -> 0 | J16: =COUNTA(G16) -> 0 | K16: =IF(J16>0,E16*0.13,0) -> 0
... B24: 20. | H24: =COUNTA(F24) -> 0 | I24: =IF(H24>0,E24*0.13,0) -> 0 | J24: =COUNTA(G24) -> 0 | K24: =IF(J24>0,E24*0.13,0) -> 0
F25: =SUM(I5:I24) -> 0 | G25: =SUM(K5:K24) -> 0 | K25: =IF(G25>=10,10,G25) -> 0
B26: รวมจำนวนหน่วยชั่วโมงภาระงานต่อสัปดาห์ | G26: =K25+F25 -> 0
A27: 3.2 | B27: การเป็นผู้ทรงคุณวุฒิพิจารณาบทความทางวิชาการ บทความวิจัย ข้อเสนอโครงการวิจัย รายงานผลการวิจัย ทั้งภายในและภายนอกมหาวิทยาลัย
B28: ที่ | C28: ชื่อเรื่องบทความทางวิชาการ บทความวิจัย ข้อเสนอโครงการวิจัย รายงานผลการวิจัย | F28: หน่วยงานที่ขอความอนุเคราะห์เชิญเป็นผู้ทรงคุณวุฒิ
C29: ที่เป็นผู้ทรงคุณวุฒิพิจารณา | F29: หน่วยงานภายใน มบส. | G29: หน่วยงานภายนอก มบส.
B30: 1.
B31: 2.
B32: 3.
B33: 4.
B34: 5.
B35: 6.
B36: 7.
B37: 8.
B38: 9.
B39: 10.
B40: รวมจำนวนหน่วยชั่วโมงภาระงานต่อสัปดาห์ | G40: =COUNTA(C30:E39)*0.3 -> 0
A41: 3.3 | B41: การเป็นผู้ทรงคุณวุฒิพิจารณาเอกสารที่เกี่ยวข้องกับการเสนอขอกำหนดตำแหน่งทางวิชาการตามประกาศ ก.พ.อ. เรื่อง หลักเกณฑ์และวิธีการพิจารณาแต่งตั้ง
B42: บุคคลให้ดำรงตำแหน่งผู้ช่วยศาสตราจารย์ รองศาสตราจารย์ และศาสตราจารย์
B43: ที่ | C43: ชื่อเรื่องเอกสารที่เกี่ยวข้องกับการเสนอขอกำหนดตำแหน่งทางวิชาการ ตามประกาศ ก.พ.อ. | F43: หน่วยงานที่ขอความอนุเคราะห์เชิญเป็นผู้ทรงคุณวุฒิ
C44: ที่เป็นผู้ทรงคุณวุฒิพิจารณา | F44: หน่วยงานภายใน มบส. | G44: หน่วยงานภายนอก มบส.
B45: 1.
B46: 2.
B47: 3.
...

Sheet -ทำนุบำรุงศิลปวัฒนธรรม
A1: ภาระงานทำนุบำรุงศิลปวัฒนธรรม
A2: 4.1 | B2: การเป็นผู้รับผิดชอบโครงการทำนุบำรุงศิลปวัฒนธรรมของมหาวิทยาลัย คณะ หรือส่วนราชการ หรือส่วนงานที่เรียกชื่ออย่างอื่นที่มีฐานะเทียบเท่าคณะ
B3: ที่ | C3: ชื่อโครงการทำนุบำรุงศิลปวัฒนธรรม | D3: ระดับการเผยแพร่หรือการใช้ประโยชน์ (โปรดระบุเครื่องหมาย / ตามความเป็นจริง) | P3: รวม
D4: ระดับสถาบัน | G4: ระดับชาติ | J4: ระดับความร่วมมือระหว่างประเทศ | M4: ระดับนานาชาติ
D5: ประธานโครงการ | E5: กรรมการและเลขานุการ | F5: กรรมการ อนุกรรมการ คณะทำงาน | G5: ประธานโครงการ | H5: กรรมการและเลขานุการ | I5: กรรมการ อนุกรรมการ คณะทำงาน | J5: ประธานโครงการ | K5: กรรมการและเลขานุการ | L5: กรรมการ อนุกรรมการ คณะทำงาน | M5: ประธานโครงการ | N5: กรรมการและเลขานุการ | O5: กรรมการ อนุกรรมการ คณะทำงาน
B6: 1. | P6: =IF(COUNTA(D6:O6)>1,"กรุณาระบุเพียง 1 ตำแหน่ง",COUNTA(D6)*2.5+COUNTA(E6)*2.25+COUNTA(F6)*2+COUNTA(G6)*3.5+COUNTA(H6)*3.25+COUNTA(I6)*3+COUNTA(J6)*4.5+COUNTA(K6)*4.25+COUNTA(L6)*4+COUNTA(M6)*5.5+COUNTA(N6)*5.25+COUNTA(O6)*5) -> 0
B7: 2. | P7: =IF(COUNTA(D7:O7)>1,"กรุณาระบุเพียง 1 ตำแหน่ง",COUNTA(D7)*2.5+COUNTA(E7)*2.25+COUNTA(F7)*2+COUNTA(G7)*3.5+COUNTA(H7)*3.25+COUNTA(I7)*3+COUNTA(J7)*4.5+COUNTA(K7)*4.25+COUNTA(L7)*4+COUNTA(M7)*5.5+COUNTA(N7)*5.25+COUNTA(O7)*5) -> 0
B8: 3. | P8: =IF(COUNTA(D8:O8)>1,"กรุณาระบุเพียง 1 ตำแหน่ง",COUNTA(D8)*2.5+COUNTA(E8)*2.25+COUNTA(F8)*2+COUNTA(G8)*3.5+COUNTA(H8)*3.25+COUNTA(I8)*3+COUNTA(J8)*4.5+COUNTA(K8)*4.25+COUNTA(L8)*4+COUNTA(M8)*5.5+COUNTA(N8)*5.25+COUNTA(O8)*5) -> 0
B9: 4. | P9: =IF(COUNTA(D9:O9)>1,"กรุณาระบุเพียง 1 ตำแหน่ง",COUNTA(D9)*2.5+COUNTA(E9)*2.25+COUNTA(F9)*2+COUNTA(G9)*3.5+COUNTA(H9)*3.25+COUNTA(I9)*3+COUNTA(J9)*4.5+COUNTA(K9)*4.25+COUNTA(L9)*4+COUNTA(M9)*5.5+COUNTA(N9)*5.25+COUNTA(O9)*5) -> 0
B10: 5. | P10: =IF(COUNTA(D10:O10)>1,"กรุณาระบุเพียง 1 ตำแหน่ง",COUNTA(D10)*2.5+COUNTA(E10)*2.25+COUNTA(F10)*2+COUNTA(G10)*3.5+COUNTA(H10)*3.25+COUNTA(I10)*3+COUNTA(J10)*4.5+COUNTA(K10)*4.25+COUNTA(L10)*4+COUNTA(M10)*5.5+COUNTA(N10)*5.25+COUNTA(O10)*5) -> 0
B11: 6. | P11: =IF(COUNTA(D11:O11)>1,"กรุณาระบุเพียง 1 ตำแหน่ง",COUNTA(D11)*2.5+COUNTA(E11)*2.25+COUNTA(F11)*2+COUNTA(G11)*3.5+COUNTA(H11)*3.25+COUNTA(I11)*3+COUNTA(J11)*4.5+COUNTA(K11)*4.25+COUNTA(L11)*4+COUNTA(M11)*5.5+COUNTA(N11)*5.25+COUNTA(O11)*5) -> 0
B12: 7. | P12: =IF(COUNTA(D12:O12)>1,"กรุณาระบุเพียง 1 ตำแหน่ง",COUNTA(D12)*2.5+COUNTA(E12)*2.25+COUNTA(F12)*2+COUNTA(G12)*3.5+COUNTA(H12)*3.25+COUNTA(I12)*3+COUNTA(J12)*4.5+COUNTA(K12)*4.25+COUNTA(L12)*4+COUNTA(M12)*5.5+COUNTA(N12)*5.25+COUNTA(O12)*5) -> 0
B13: 8. | P13: =IF(COUNTA(D13:O13)>1,"กรุณาระบุเพียง 1 ตำแหน่ง",COUNTA(D13)*2.5+COUNTA(E13)*2.25+COUNTA(F13)*2+COUNTA(G13)*3.5+COUNTA(H13)*3.25+COUNTA(I13)*3+COUNTA(J13)*4.5+COUNTA(K13)*4.25+COUNTA(L13)*4+COUNTA(M13)*5.5+COUNTA(N13)*5.25+COUNTA(O13)*5) -> 0
B14: 9. | P14: =IF(COUNTA(D14:O14)>1,"กรุณาระบุเพียง 1 ตำแหน่ง",COUNTA(D14)*2.5+COUNTA(E14)*2.25+COUNTA(F14)*2+COUNTA(G14)*3.5+COUNTA(H14)*3.25+COUNTA(I14)*3+COUNTA(J14)*4.5+COUNTA(K14)*4.25+COUNTA(L14)*4+COUNTA(M14)*5.5+COUNTA(N14)*5.25+COUNTA(O14)*5) -> 0
B15: 10. | P15: =IF(COUNTA(D15:O15)>1,"กรุณาระบุเพียง 1 ตำแหน่ง",COUNTA(D15)*2.5+COUNTA(E15)*2.25+COUNTA(F15)*2+COUNTA(G15)*3.5+COUNTA(H15)*3.25+COUNTA(I15)*3+COUNTA(J15)*4.5+COUNTA(K15)*4.25+COUNTA(L15)*4+COUNTA(M15)*5.5+COUNTA(N15)*5.25+COUNTA(O15)*5) -> 0
B16: รวมจำนวนหน่วยชั่วโมงภาระงานต่อสัปดาห์ | P16: =SUM(P6:P15) -> 0
A17: 4.2 | B17: การเข้าร่วมการปฏิบัติงานหรือกิจกรรมใด ๆ ที่ส่งผลโดยตรงหรือผลกระทบให้เกิดการทำนุบำรุงศิลปวัฒนธรรม ทั้งภายในและภายนอกมหาวิทยาลัย
B18: ที่ | C18: ชื่อหัวข้อการปฏิบัติงานหรือกิจกรรมใดๆ | G18: หน่วยงานที่จัดกิจกรรม
B19: 1.
B20: 2.
B21: 3.
B22: 4.
B23: 5.
B24: 6.
B25: 7.
B26: 8.
B27: 9.
B28: 10.
B29: 11.
B30: 12.
... B33: 15.
B34: รวมจำนวนหน่วยชั่วโมงภาระงานต่อสัปดาห์ | G34: =IF(Q34>2,2,Q34) -> 0 | Q34: =COUNTA(C19:F33)*0.2 -> 0
A36: ภาระงานทำนุบำรุงศิลปวัฒนธรรม | I36: รวม | K36: =P16+G34 -> 0 | M36: หน่วยชั่วโมงภาระงานต่อสัปดาห์
A40: หมายเหตุ | C40: ภาระงานทำนุบำรุงศิลปวัฒนธรรม หมายถึง งานหรือกิจกรรมเพื่อทำนุบำรุงศิลปวัฒนธรรมอันเป็นการดำรงไว้ซึ่งคุณค่า อัตลักษณ์ของท้องถิ่น เอกลักษณ์ของชาติ รวมทั้งปลูกฝังความเป็นชาติในรูปแบบและลักษณะต่าง ๆ

Sheet -อื่นๆ
A1: ภาระงานอื่นๆ
A2: 5.1 | B2: การเข้าร่วมโครงการ/กิจกรรมเพื่อพัฒนาวิชาการหรือวิชาชีพของตน
C3: ที่ | D3: ชื่อโครงการ/กิจกรรมเพื่อพัฒนาวิชาการหรือวิชาชีพของตน
C4: 1.
C5: 2.
C6: 3.
C7: 4.
C8: 5.
C9: 6.
C10: 7.
C11: 8.
C12: 9.
C13: 10.
C14: รวมจำนวนหน่วยชั่วโมงภาระงานต่อสัปดาห์ | H14: =IF(L14>1,1,L14) -> 0 | L14: =COUNTA(D4:H13)*0.2 -> 0
A15: 5.2 | B15: การเป็นผู้รับผิดชอบโครงการ/กิจกรรมของมหาวิทยาลัย หรือคณะ
C16: ที่ | D16: ชื่อโครงการ/กิจกรรมพัฒนาผู้เรียน | F16: บทบาทในการเป็นผู้รับผิดชอบโครงการ/กิจกรรม | H16: รวม
F17: ประธานกรรมการ / กรรมการและเลขานุการ / เลขานุการ | G17: กรรมการ / อนุกรรมการ / คณะทำงาน
C18: 1. | H18: =IF(COUNTA(F18:G18)>1,"กรุณาระบุเพียง 1 ตำแหน่ง",COUNTA(F18)*1+COUNTA(G18)*0.8) -> 0
C19: 2. | H19: =IF(COUNTA(F19:G19)>1,"กรุณาระบุเพียง 1 ตำแหน่ง",COUNTA(F19)*1+COUNTA(G19)*0.8) -> 0
C20: 3. | H20: =IF(COUNTA(F20:G20)>1,"กรุณาระบุเพียง 1 ตำแหน่ง",COUNTA(F20)*1+COUNTA(G20)*0.8) -> 0
C21: 4. | H21: =IF(COUNTA(F21:G21)>1,"กรุณาระบุเพียง 1 ตำแหน่ง",COUNTA(F21)*1+COUNTA(G21)*0.8) -> 0
C22: 5. | H22: =IF(COUNTA(F22:G22)>1,"กรุณาระบุเพียง 1 ตำแหน่ง",COUNTA(F22)*1+COUNTA(G22)*0.8) -> 0
C23: 6. | H23: =IF(COUNTA(F23:G23)>1,"กรุณาระบุเพียง 1 ตำแหน่ง",COUNTA(F23)*1+COUNTA(G23)*0.8) -> 0
C24: 7. | H24: =IF(COUNTA(F24:G24)>1,"กรุณาระบุเพียง 1 ตำแหน่ง",COUNTA(F24)*1+COUNTA(G24)*0.8) -> 0
C25: 8. | H25: =IF(COUNTA(F25:G25)>1,"กรุณาระบุเพียง 1 ตำแหน่ง",COUNTA(F25)*1+COUNTA(G25)*0.8) -> 0
C26: 9. | H26: =IF(COUNTA(F26:G26)>1,"กรุณาระบุเพียง 1 ตำแหน่ง",COUNTA(F26)*1+COUNTA(G26)*0.8) -> 0
C27: 10. | H27: =IF(COUNTA(F27:G27)>1,"กรุณาระบุเพียง 1 ตำแหน่ง",COUNTA(F27)*1+COUNTA(G27)*0.8) -> 0
C28: 11. | H28: =IF(COUNTA(F28:G28)>1,"กรุณาระบุเพียง 1 ตำแหน่ง",COUNTA(F28)*1+COUNTA(G28)*0.8) -> 0
C29: 12. | H29: =IF(COUNTA(F29:G29)>1,"กรุณาระบุเพียง 1 ตำแหน่ง",COUNTA(F29)*1+COUNTA(G29)*0.8) -> 0
... C32: 15. | H32: =IF(COUNTA(F32:G32)>1,"กรุณาระบุเพียง 1 ตำแหน่ง",COUNTA(F32)*1+COUNTA(G32)*0.8) -> 0
C33: รวมจำนวนหน่วยชั่วโมงภาระงานต่อสัปดาห์ | H33: =SUM(H18:H32) -> 0
A34: 5.3 | B34: การเป็นคณะกรรมการเฉพาะกิจที่มหาวิทยาลัย คณะ หรือส่วนราชการ หรือส่วนงานที่เรียกชื่ออย่างอื่นที่มีฐานะเทียบเท่าคณะแต่งตั้ง (นับเฉพาะเดือนที่อยู่ในรอบการประเมินเท่านั้น)
C35: ที่ | D35: ชื่อคณะกรรมการเฉพาะกิจที่ได้รับการแต่งตั้ง | E35: ระยะเวลาในการดำเนินงานอย่างต่อเนื่อง (โปรดระบุเครื่องหมาย / ตามความเป็นจริง) | K35: รวม
E36: ไม่น้อยกว่า 15 ชั่วโมง แต่ไม่เกิน 2 เดือน | G36: ไม่น้อยกว่า 2 เดือน แต่ไม่เกิน 4 เดือน | I36: ตั้งแต่ 4 เดือนขึ้นไป
E37: ประธานกรรมการ กรรมการและเลขานุการ เลขานุการ | F37: กรรมการ อนุกรรมการ คณะทำงาน | G37: ประธานกรรมการ กรรมการและเลขานุการ เลขานุการ | H37: กรรมการ อนุกรรมการ คณะทำงาน | I37: ประธานกรรมการ กรรมการและเลขานุการ เลขานุการ | J37: กรรมการ อนุกรรมการ คณะทำงาน
C38: 1. | K38: =IF(COUNTA(E38:J38)>1,"กรุณาระบุเพียง 1 ตำแหน่ง",COUNTA(E38)*2+COUNTA(F38)*1.5+COUNTA(G38)*3+COUNTA(H38)*2.5+COUNTA(I38)*4+COUNTA(J38)*3.5) -> 0
C39: 2. | K39: =IF(COUNTA(E39:J39)>1,"กรุณาระบุเพียง 1 ตำแหน่ง",COUNTA(E39)*2+COUNTA(F39)*1.5+COUNTA(G39)*3+COUNTA(H39)*2.5+COUNTA(I39)*4+COUNTA(J39)*3.5) -> 0
C40: 3. | K40: =IF(COUNTA(E40:J40)>1,"กรุณาระบุเพียง 1 ตำแหน่ง",COUNTA(E40)*2+COUNTA(F40)*1.5+COUNTA(G40)*3+COUNTA(H40)*2.5+COUNTA(I40)*4+COUNTA(J40)*3.5) -> 0
C41: 4. | K41: =IF(COUNTA(E41:J41)>1,"กรุณาระบุเพียง 1 ตำแหน่ง",COUNTA(E41)*2+COUNTA(F41)*1.5+COUNTA(G41)*3+COUNTA(H41)*2.5+COUNTA(I41)*4+COUNTA(J41)*3.5) -> 0
C42: 5. | K42: =IF(COUNTA(E42:J42)>1,"กรุณาระบุเพียง 1 ตำแหน่ง",COUNTA(E42)*2+COUNTA(F42)*1.5+COUNTA(G42)*3+COUNTA(H42)*2.5+COUNTA(I42)*4+COUNTA(J42)*3.5) -> 0
...

Sheet เอกสารแนบท้ายป.มบส.1 (ตอนที่ 3)
A1: ตอนที่ 3 | B1: ตัวชี้วัดและเกณฑ์คะแนนการประเมินผลสัมฤทธิ์ของงาน
A2: ลำดับ | B2: รายการประเมิน | E2: เกณฑ์คะแนน | H2: คะแนนเต็ม | I2: ค่าถ่วงน้ำหนัก | J2: ค่าเป้าหมาย | K2: ผลการประเมินตนเอง | M2: ผลการประเมิน โดยผู้ประเมิน
C3: 1 | D3: 2 | E3: 3 | F3: 4 | G3: 5 | M3: คะแนน | N3: ผลถ่วงน้ำหนัก
A4: 1 | B4: ด้านการสอน (ค่าน้ำหนัก 40%)
B5: 1.1 การจัดทำรายละเอียดของรายวิชาที่เน้นผลลัพธ์การเรียนรู้เป็นสำคัญ และนำส่งตามกำหนดเวลา | C5: มีการจัดทำรายละเอียดของรายวิชาที่เน้นผลลัพธ์การเรียนรู้เป็นสำคัญ และ นำส่งตามกำหนดเวลา น้อยกว่าร้อยละ 40 ของรายวิชาที่รับผิดชอบ | D5: มีการจัดทำรายละเอียดของรายวิชาที่เน้นผลลัพธ์การเรียนรู้เป็นสำคัญ และ นำส่งตามกำหนดเวลา ไม่น้อยกว่าร้อยละ 40 ของรายวิชาที่รับผิดชอบ | E5: มีการจัดทำรายละเอียดของรายวิชาที่เน้นผลลัพธ์การเรียนรู้เป็นสำคัญ และ นำส่งตามกำหนดเวลา ไม่น้อยกว่าร้อยละ 60 ของรายวิชาที่รับผิดชอบ | F5: มีการจัดทำรายละเอียดของรายวิชาที่เน้นผลลัพธ์การเรียนรู้เป็นสำคัญ และ นำส่งตามกำหนดเวลา ไม่น้อยกว่าร้อยละ 80 ของรายวิชาที่รับผิดชอบ | G5: ทุกรายวิชามีการจัดทำรายละเอียดของรายวิชาที่เน้นผลลัพธ์การเรียนรู้เป็นสำคัญ และ นำส่งตามกำหนดเวลา | H5: 5 | I5: 1 | L5: =K5*I5 -> 0 | N5: =M5*L5 -> 0
B6: 1.2 ร้อยละของความสำเร็จในการผลิตสื่อการสอน/เอกสารประกอบการสอน/เอกสารคำสอน/ตำรา/หนังสือ เพื่อใช้ในการจัดการเรียนการสอนหรือการขอกำหนดตำแหน่งทางวิชาการ | C6: มีการผลิตสื่อการสอน/เอกสารประกอบการสอน/เอกสารคำสอน/ตำรา/หนังสือ เพื่อใช้ในการจัดการเรียนการสอนหรือการขอกำหนดตำแหน่งทางวิชาการ น้อยกว่าร้อยละ 25 ของรายวิชาที่รับผิดชอบ | D6: มีการผลิตสื่อการสอน/เอกสารประกอบการสอน/เอกสารคำสอน/ตำรา/หนังสือ เพื่อใช้ในการจัดการเรียนการสอนหรือการขอกำหนดตำแหน่งทางวิชาการ ไม่น้อยกว่าร้อยละ 25 ของรายวิชาที่รับผิดชอบ | E6: มีการผลิตสื่อการสอน/เอกสารประกอบการสอน/เอกสารคำสอน/ตำรา/หนังสือ เพื่อใช้ในการจัดการเรียนการสอนหรือการขอกำหนดตำแหน่งทางวิชาการ ไม่น้อยกว่าร้อยละ 50 ของรายวิชาที่รับผิดชอบ | F6: มีการผลิตสื่อการสอน/เอกสารประกอบการสอน/เอกสารคำสอน/ตำรา/หนังสือ เพื่อใช้ในการจัดการเรียนการสอนหรือการขอกำหนดตำแหน่งทางวิชาการ ไม่น้อยกว่าร้อยละ 75 ของรายวิชาที่รับผิดชอบ | G6: ทุกรายวิชามีการผลิตสื่อการสอน/เอกสารประกอบการสอน/เอกสารคำสอน/ตำรา/หนังสือ เพื่อใช้ในการจัดการเรียนการสอนหรือการขอกำหนดตำแหน่งทางวิชาการ | H6: 5 | I6: 1 | L6: =K6*I6 -> 0 | N6: =M6*L6 -> 0
B7: 1.3 การส่งผลการเรียน และจัดทำรายงานผลการดำเนินการของรายวิชา โดยนำส่งตามกำหนดเวลา | C7: มีการส่งผลการเรียน และจัดทำรายงานผลการดำเนินการของรายวิชา โดยนำส่งตามกำหนดเวลา น้อยกว่าร้อยละ 40 ของรายวิชาที่รับผิดชอบ | D7: มีการส่งผลการเรียน และจัดทำรายงานผลการดำเนินการของรายวิชา โดยนำส่งตามกำหนดเวลา ไม่น้อยกว่าร้อยละ 40 ของรายวิชาที่รับผิดชอบ | E7: มีการส่งผลการเรียน และจัดทำรายงานผลการดำเนินการของรายวิชา โดยนำส่งตามกำหนดเวลา ไม่น้อยกว่าร้อยละ 60 ของรายวิชาที่รับผิดชอบ | F7: มีการส่งผลการเรียน และจัดทำรายงานผลการดำเนินการของรายวิชา โดยนำส่งตามกำหนดเวลา ไม่น้อยกว่าร้อยละ 80 ของรายวิชาที่รับผิดชอบ | G7: ทุกรายวิชามีการส่งผลการเรียน และจัดทำรายงานผลการดำเนินการของรายวิชา โดยนำส่งตามกำหนดเวลา | H7: 5 | I7: 1 | L7: =K7*I7 -> 0 | N7: =M7*L7 -> 0
B8: 1.4 ผลการประเมินการสอนโดยผู้เรียน | C8: 1.00 - 1.50 คะแนน | D8: 1.51 - 2.50 คะแนน | E8: 2.51 - 3.50 คะแนน | F8: 3.51 - 4.50 คะแนน | G8: 4.51 - 5.00 คะแนน | H8: 5 | I8: 1 | L8: =K8*I8 -> 0 | N8: =M8*L8 -> 0
B9: 1.5 ร้อยละของจำนวนนักศึกษาที่สำเร็จตามแผนการศึกษา | F9: จำนวนนักศึกษาที่สำเร็จการศึกษาตามแผนการศึกษาของหลักสูตร | G9: x 5 | H9: 5 | I9: 1 | L9: =K9*I9 -> 0 | N9: 0
F10: (จำนวนนักศึกษารับเข้าทั้งหมด - จำนวนนักศึกษาพ้นสภาพ+ลาออก+ย้ายสาขา)
B11: 1.6 การเป็นที่ปรึกษาวิชาการและวิชาชีพ | C11: ไม่มีคำสั่งเป็นที่ปรึกษาใดๆ แต่ได้แนะแนวการเรียนหรือการใช้ชีวิตของนักศึกษา โดยมีหลักฐาน | D11: มีคำสั่งเป็นที่ปรึกษา และได้แนะแนวการเรียนหรือการใช้ชีวิตของนักศึกษา 1 - 2 ครั้งต่อภาคเรียน โดยมีหลักฐาน | E11: มีคำสั่งเป็นที่ปรึกษา และได้แนะแนวการเรียนหรือการใช้ชีวิตของนักศึกษา 3 - 4 ครั้งต่อภาคเรียน โดยมีหลักฐาน | F11: มีคำสั่งเป็นที่ปรึกษา และได้แนะแนวการเรียนหรือการใช้ชีวิตของนักศึกษา 5 - 6 ครั้งต่อภาคเรียน โดยมีหลักฐาน | G11: มีคำสั่งเป็นที่ปรึกษา และได้แนะแนวการเรียนหรือการใช้ชีวิตของนักศึกษา 7 ครั้งขึ้นไปต่อ ภาคเรียน โดยมีหลักฐาน | H11: 5 | I11: 1 | L11: =K11*I11 -> 0 | N11: =M11*L11 -> 0
B12: 1.7 การมีส่วนร่วมในการดำเนินงานประกันคุณภาพการศึกษา | C12: มีการดำเนินการ 1 ข้อ | D12: มีการดำเนินการ 2 ข้อ | E12: มีการดำเนินการ 3 ข้อ | F12: มีการดำเนินการ 4 ข้อ | G12: มีการดำเนินการ 5 ข้อขึ้นไป | H12: 5 | I12: 1 | L12: =I12*K12 -> 0
C13: ข้อ 1 มีคำสั่งแต่งตั้งเป็นคณะกรรมการประกันคุณภาพการศึกษาภายในระดับหลักสูตร
C14: ข้อ 2 เข้ารับการอบรม หรือพัฒนาความรู้ด้านการประกันคุณภาพการศึกษาภายในระดับหลักสูตร
C15: ข้อ 3 มีส่วนร่วมในการจัดทำรายงานประจำปีที่เป็นรายงานการประเมินตนเอง (SAR) ภายในระดับหลักสูตร
C16: ข้อ 4 มีส่วนร่วมในการดำเนินงานรับการตรวจประเมินคุณภาพภายในระดับหลักสูตร
C17: ข้อ 5 มีการดำเนินการจัดทำรายงานผลการประกันคุณภาพการศึกษาภายในระดับหลักสูตรผ่านระบบ Che-QA
C18: ข้อ 6 มีการดำเนินการนำข้อเสนอแนะจากผลการประกันคุณภาพการศึกษาภายในระดับหลักสูตรมาพัฒนา/ปรับปรุงการดำเนินงานต่างๆ
C19: ในระดับหลักสูตร
C20: ข้อ 7 ได้ขึ้นทะเบียนเป็นผู้ประเมินคุณภาพการศึกษาภายในระดับหลักสูตร
C21: ข้อ 8 มีส่วนร่วมในการดำเนินการประกันคุณภาพการศึกษาภายในหรือภายนอกระดับคณะ/สถาบัน
B22: 1.8 ผลการประเมินตามตัวบ่งชี้ประกันคุณภาพการศึกษาภายใน ระดับหลักสูตร | C22: (ปีงบประมาณ 2568 - 2569 กรณีหลักสูตรประเมินด้วยเกณฑ์ AUN-QA จะได้รับผลการประเมิน 5 คะแนน) | H22: 5 | I22: 1 | L22: =I22*K22 -> 0 | N22: 0
B23: * กรณีผลการประเมินตามตัวบ่งชี้การประกันคุณภาพการศึกษาภายใน มหาวิทยาลัยราชภัฏ (IQA-RU) | D23: ค่าเฉลี่ยของผลการประเมินคุณภาพการศึกษา | E23: = ผลการประเมิน (คะแนนเต็ม ๕ คะแนน)
B24: * กรณีผลการประเมินตามตัวบ่งชี้การประกันคุณภาพการศึกษาตามเกณฑ์ AUN-QA (AUN Quality Assurance) | C24: - | D24: 1 คะแนน | E24: 2 คะแนน | F24: 3 คะแนน | G24: 4 คะแนนขึ้นไป
G25: ผลรวมคะแนนด้านการสอน | K25: =SUM(K5:K24) -> 0 | L25: =SUM(L5:L24) -> 0 | N25: =SUM(N5:N24) -> 0
A26: 2 | B26: ด้านการวิจัย (ค่าน้ำหนัก 15%)
B27: 2.1 การดำเนินการงานวิจัย/นวัตกรรม/งานสร้างสรรค์ ให้เลือกอย่างใดอย่างหนึ่งหรือเลือกรวมกันได้ ทั้งนี้ เมื่อรวมกันมีค่าคะแนนไม่เกิน 5 คะแนน | H27: 5 | I27: 1 | L27: =I27*K27 -> 0
B28: *กรณีความสำเร็จในการดำเนินการวิจัย/บทความ/นวัตกรรม | C28: อยู่ระหว่างการดำเนินการวิจัย/บทความ/นวัตกรรม | D28: ได้รับใบตอบรับการตีพิมพ์เผยแพร่งานวิจัย/บทความ/นวัตกรรมฉบับสมบูรณ์ ในรายงานสืบเนื่องจากการประชุมวิชาการระดับชาติ/ระดับนานาชาติ/ในวารสารวิชาการ ในฐานข้อมูลระดับชาติ/ระดับนานาชาติ (ใช้ผลการดำเนินงานได้ 1 รอบการประเมินนับจากวันที่ได้รับการเผยแพร่) | E28: มีการตีพิมพ์เผยแพร่งานวิจัย/บทความ/นวัตกรรมฉบับสมบูรณ์ ในรายงานสืบเนื่องจากการประชุมวิชาการระดับชาติ (ใช้ผลการดำเนินงานได้ 2 รอบการประเมินนับจากวันที่ได้รับการเผยแพร่) | F28: มีการตีพิมพ์เผยแพร่งานวิจัย/บทความ/นวัตกรรมฉบับสมบูรณ์ ในรายงานสืบเนื่องจากการประชุมวิชาการระดับนานาชาติ (ใช้ผลการดำเนินงานได้ 2 รอบการประเมินนับจากวันที่ได้รับการเผยแพร่) | G28: มีการตีพิมพ์เผยแพร่งานวิจัย/บทความ/นวัตกรรมฉบับสมบูรณ์ในวารสารวิชาการ ในฐานข้อมูลระดับชาติ/ระดับนานาชาติ (ระดับชาติ ใช้ผลการดำเนินงานได้ 3 รอบการประเมินนับจากวันที่ได้รับการเผยแพร่ ระดับนานาชาติ ใช้ผลการดำเนินงานได้ 4 รอบการประเมินนับจากวันที่ได้รับการเผยแพร่)
B29: *กรณีความสำเร็จในการดำเนินการจดแจ้ง/การรับจดทะเบียนทรัพย์สินทางปัญญา | C29: มีผลงานและอยู่ระหว่างการจัดทำเอกสารเพื่อยื่นจดแจ้งหรือรับจดทะเบียนทรัพย์สินทางปัญญา | D29: อยู่ระหว่างการรอผลการพิจารณารับจดแจ้งหรือรับจดทะเบียนทรัพย์สินทางปัญญา | E29: ได้รับการจดลิขสิทธิ์ (ใช้ผลการดำเนินงานได้ 2 รอบการประเมินนับจากวันที่ได้รับการจดลิขสิทธิ์) | F29: ได้รับการจดอนุสิทธิบัตร (ใช้ผลการดำเนินงานได้ 3 รอบการประเมินนับจากวันที่ได้รับการจดอนุสิทธิบัตร) | G29: ได้รับการจดสิทธิบัตรการประดิษฐ์ (ใช้ผลการดำเนินงานได้ 4 รอบการประเมินนับจากวันที่ได้รับการจดสิทธิบัตรการประดิษฐ์)
B30: *กรณีความสำเร็จในการดำเนินการงานสร้างสรรค์ | C30: อยู่ระหว่างการดำเนินการงานสร้างสรรค์ | D30: ได้รับใบตอบรับการเผยแพร่/การนำเสนองานสร้างสรรค์ในระดับสถาบัน/ระดับชาติ/ ระดับนานาชาติ | E30: มีการเผยแพร่/การนำเสนองานสร้างสรรค์ และเผยแพร่สู่สาธารณะในลักษณะใดลักษณะหนึ่งหรือผ่านสื่ออิเล็กทรอนิกส์ online (ใช้ผลการดำเนินงานได้ 1 รอบการประเมินนับจากวันที่ได้รับการเผยแพร่) | F30: มีการเผยแพร่/การนำเสนองานสร้างสรรค์ และเผยแพร่สู่สาธารณะในระดับสถาบัน (ใช้ผลการดำเนินงานได้ 2 รอบการประเมินนับจากวันที่ได้รับการเผยแพร่) | G30: มีการเผยแพร่/การนำเสนองานสร้างสรรค์ และเผยแพร่สู่สาธารณะในระดับชาติ/ ระดับนานาชาติ (ใช้ผลการดำเนินงานได้ 4 รอบการประเมินนับจากวันที่ได้รับการเผยแพร่)
B31: 2.2 การได้รับทุนอุดหนุนงานวิจัย/งานสร้างสรรค์ | C31: อยู่ระหว่างการเขียนข้อเสนอโครงการได้น้อยกว่าร้อยละ 50 | D31: อยู่ระหว่างการเขียนข้อเสนอโครงการได้มากกว่าร้อยละ 50 แต่ยังไม่แล้วเสร็จสมบูรณ์ | E31: ดำเนินการเขียนข้อเสนอโครงการแล้วเสร็จสมบูรณ์ | F31: ดำเนินการยื่นข้อเสนอโครงการเพื่อขอรับทุนสนับสนุนงานวิจัย/งานสร้างสรรค์ | G31: มีเอกสารแสดงการได้รับทุนสนับสนุนงานวิจัย/งานสร้างสรรค์ (ทุนภายใน/ทุนภายนอก) | H31: 5 | I31: 1 | L31: =K31*I31 -> 0
B32: 2.3 1 สาขาวิชา 1 นวัตกรรม (one program one innovation) | C32: อยู่ระหว่างการสร้างนวัตกรรม | D32: ดำเนินการสร้างนวัตกรรมแล้วเสร็จสมบูรณ์ | E32: นำนวัตกรรมไปใช้ประโยชน์ในการพัฒนาผู้เรียนหรือพัฒนาการเรียนการสอน | F32: นำนวัตกรรมไปใช้ประโยชน์ต่อชุมชนหรือ ท้องถิ่น (ใช้ผลการดำเนินงานได้ 2 รอบการประเมินนับจากวันที่ได้นำนวัตกรรมไปใช้ประโยชน์ต่อชุมชนหรือ ท้องถิ่น) | G32: นำนวัตกรรมไปก่อให้เกิดรายได้ให้แก่หลักสูตร/คณะ/มหาวิทยาลัย หรือยื่นขอจดทรัพย์สินทางปัญญา (ใช้ผลการดำเนินงานได้ ๔ รอบการประเมินนับจากวันที่ก่อให้เกิดรายได้หรือยื่นขอจด) | H32: 5 | I32: 1 | L32: =K32*I32 -> 0
G33: ผลรวมคะแนนด้านการวิจัย | K33: =SUM(K27:K32) -> 0 | L33: =SUM(L27:L32) -> 0 | N33: =SUM(N27:N32) -> 0
A34: 3 | B34: ด้านบริการวิชาการ (ค่าน้ำหนัก 15%)
B35: 3.1 การบริการวิชาการเพื่อการพัฒนาท้องถิ่นหรือชุมชน | C35: มีการดำเนินการ 1 ข้อ | D35: มีการดำเนินการ 2 ข้อ | E35: มีการดำเนินการ 3 ข้อ | F35: มีการดำเนินการ 4 ข้อ | G35: มีการดำเนินการ 5 ข้อขึ้นไป | H35: 5 | I35: 1 | L35: =I35*K35 -> 0
C36: ข้อ 1 มีคำสั่งแต่งตั้งเป็นกรรมการดำเนินงานยุทธศาสตร์เพื่อการพัฒนาท้องถิ่น หรือกรรมการดำเนินงานโครงการพัฒนาความเป็นเลิศของ
C37: สถาบันอุดมศึกษาและพัฒนากำลังคนชั้นสูง
C38: ข้อ 2 มีส่วนร่วมในการดำเนินงานโครงการยุทธศาสตร์เพื่อการพัฒนาท้องถิ่น หรือโครงการพัฒนาความเป็นเลิศของสถาบันอุดมศึกษาและ
C39: พัฒนากำลังคนชั้นสูง หรือการบริการชุมชนท้องถิ่นแบบให้เปล่า
C40: ข้อ 3 มีส่วนร่วมในการดำเนินการโครงการยุทธศาสตร์เพื่อการพัฒนาท้องถิ่น หรือการบริการชุมชนท้องถิ่นแบบก่อให้เกิดรายได้
...

Sheet ป.มบส.2
C1: แบบข้อตกลงการประเมินพฤติกรรมการปฏิบัติราชการ (สมรรถนะ) ของข้าราชการมหาวิทยาลัยราชภัฏบ้านสมเด็จเจ้าพระยา (องค์ประกอบที่ ๒) | M1: แบบ ป.มบส. 2
A2: 1. ภาระงานเป็นไปตามข้อบังคับฯ ว่าด้วยการกำหนดภาระงานทางวิชาการของผู้ดำรงตำแหน่งอาจารย์ ผู้ช่วยศาสตราจารย์ รองศาสตราจารย์ และศาสตราจารย์ พ.ศ. 2565
A3: 2. แบบรายงานภาระงานและประเมินผลฯ นี้ มีทั้งสิ้น 3 ตอน ขอให้ผู้รับการประเมินกรอกข้อมูลในช่องสีเขียวและในช่องสัญลักษณ์ต่างๆ ให้ครบถ้วน
A4: ชื่อผู้รับการประเมิน | B4: ='เกณฑ์คะแนนตัวชี้วัด-ตอนที่ 1+2'!C7&" "&'เกณฑ์คะแนนตัวชี้วัด-ตอนที่ 1+2'!E7 | E4: ตำแหน่ง | F4: ='เกณฑ์คะแนนตัวชี้วัด-ตอนที่ 1+2'!H7 -> 0 | H4: หน่วยงาน | I4: ='เกณฑ์คะแนนตัวชี้วัด-ตอนที่ 1+2'!K7 -> 0 | S4: FALSE | T4: 0 | U4: 24
A5: ชื่อผู้บังคับบัญชา/ผู้ประเมิน | B5: {='เกณฑ์คะแนนตัวชี้วัด-ตอนที่ 1+2'!$C$4} -> 0 | E5: ตำแหน่ง | F5: {='เกณฑ์คะแนนตัวชี้วัด-ตอนที่ 1+2'!$E$4:$F$4} -> 0 | H5: รอบการประเมิน | I5: ='เกณฑ์คะแนนตัวชี้วัด-ตอนที่ 1+2'!I4 -> 0 | L5: ปีงบประมาณ | M5: {='เกณฑ์คะแนนตัวชี้วัด-ตอนที่ 1+2'!L4} -> 0
A7: สมรรถนะหลัก (สำหรับข้าราชการทุกคน) | B7: (1) ระดับสมรรถนะที่คาดหวัง | C7: (2) ระดับสมรรถนะที่แสดงออก | E7: สมรรถนะประจำกลุ่มสายงาน (ข้าราชการกลุ่มฯ วิชาการ ประเมิน ข้อ ๑ , ๒ , ๓ ข้าราชการกลุ่มฯ สนับสนุน ประเมิน ข้อ ๑ , ๔ , ๕) | G7: (1) ระดับสมรรถนะที่คาดหวัง | H7: (2) ระดับสมรรถนะที่แสดงออก | J7: สมรรถนะทางการบริหาร (สำหรับข้าราชการประเภทบริหาร / วิชาการระดับทรงคุณวุฒิ / อำนวยการ) | L7: (1) ระดับสมรรถนะที่คาดหวัง | M7: (2) ระดับสมรรถนะที่แสดงออก
A8: 1. การมุ่งผลสัมฤทธิ์ | B8: 2 | C8: 2 | E8: 1. การคิดวิเคราะห์ | G8: 2 | H8: 2 | J8: 1. สภาวะผู้นำ
A9: 2. การบริการที่ดี | B9: 2 | C9: 2 | E9: 2. การมองภาพองค์รวม | G9: 2 | H9: 2 | J9: 2. วิสัยทัศน์
A10: 3. การสั่งสมความเชี่ยวชาญในงานอาชีพ | B10: 2 | C10: 2 | E10: 3. การใส่ใจและพัฒนาผู้อื่น | G10: 2 | H10: 2 | J10: 3. การวางกลยุทธ์ภาครัฐ
A11: 4. การยึดมั่นในความถูกต้องชอบธรรม | B11: 2 | C11: 2 | E11: 4. การตรวจสอบความถูกต้อง | J11: 4. ศักยภาพเพื่อนำการปรับเปลี่ยน
A12: และจริยธรรม | E12: ตามกระบวนงาน | J12: 5. การควบคุมตนเอง
A13: 5. การทำงานเป็นทีม | B13: 2 | C13: 2 | E13: 5. การสร้างสัมพันธภาพ | J13: 6. การสอนงานและมอบหมายงาน
A15: หลักเกณฑ์การประเมิน | K15: จำนวนสมรรถนะ | L15: คะแนน
A16: จำนวนสมรรถนะหลัก / สมรรถนะทางการบริหาร ที่มีระดับสมรรถนะที่แสดงออก สูงกว่าหรือเท่ากับ ระดับสมรรถนะที่คาดหวัง X 3 คะแนน | K16: 8 | L16: =K16*3 -> 24
A17: จำนวนสมรรถนะหลัก / สมรรถนะทางการบริหาร ที่มีระดับสมรรถนะที่แสดงออก ต่ำกว่า ระดับสมรรถนะที่คาดหวัง 1 ระดับ X 2 คะแนน | L17: =K17*2 -> 0
A18: จำนวนสมรรถนะหลัก / สมรรถนะทางการบริหาร ที่มีระดับสมรรถนะที่แสดงออก ต่ำกว่า ระดับสมรรถนะที่คาดหวัง 2 ระดับ X 1 คะแนน | L18: =K18*1 -> 0
A19: จำนวนสมรรถนะหลัก / สมรรถนะทางการบริหาร ที่มีระดับสมรรถนะที่แสดงออก ต่ำกว่า ระดับสมรรถนะที่คาดหวัง 3 ระดับ X 0 คะแนน | L19: =K19*0 -> 0
A20: สรุปคะแนนส่วนพฤติกรรมการปฏิบัติราชการ (สมรรถนะ) | L20: =((L16+L17+L18+L19)/((K16+K17+K18+K19)*3))*100 -> 100
A22: ผู้ประเมินและผู้รับการประเมินได้ตกลงร่วมกันและเห็นพ้องกันแล้ว จึงลงลายมือชื่อไว้เป็นหลักฐาน (ลงนามเมื่อจัดทำข้อตกลง)
A24: ลายมือชื่อ | F24: ผู้ประเมิน | H24: ลายมือชื่อ | M24: ผู้รับการประเมิน
A25: วัน..............เดือน...........................................พ.ศ................... | H25: วัน..............เดือน...........................................พ.ศ...................
A27: ความเห็นเพิ่มเติมของผู้ประเมิน (ระบุข้อมูลเมื่อสิ้นรอบการประเมิน) 1) จุดเด่น และ / หรือ สิ่งที่ควรปรับปรุงแก้ไข
A33: 2) ข้อเสนอแนะเกี่ยวกับวิธีส่งเสริมและพัฒนา เพื่อจัดทำแผนพัฒนารายบุคคล
A40: ผู้ประเมินและผู้รับการประเมิน ได้เห็นชอบผลการประเมินแล้ว จึงลงลายมือชื่อไว้เป็นหลักฐาน (ลงนามเมื่อสิ้นรอบประเมิน)
A42: ลายมือชื่อ | F42: ผู้ประเมิน | H42: ลายมือชื่อ | M42: ผู้รับการประเมิน
A43: วัน..............เดือน...........................................พ.ศ................... | H43: วัน..............เดือน...........................................พ.ศ...................

Sheet ป.มบส.3
G1: แบบ ป.มบส. 3
A2: แบบสรุปการประเมินผลการปฏิบัติราชการ
A3: ของข้าราชการมหาวิทยาลัยราชภัฏบ้านสมเด็จเจ้าพระยา
A5: รอบการประเมิน | C5: =ป.มบส.2!I5 -> 0 | E5: ปีงบประมาณ | F5: =ป.มบส.2!M5 -> 0
A7: ส่วนที่ 1 : ข้อมูลของผู้รับการประเมิน
A8: ชื่อผู้รับการประเมิน | B8: ='เกณฑ์คะแนนตัวชี้วัด-ตอนที่ 1+2'!C7&" "&'เกณฑ์คะแนนตัวชี้วัด-ตอนที่ 1+2'!E7 | E8: ตำแหน่ง | F8: =ป.มบส.2!F4 -> 0
A9: สังกัด | B9: =ป.มบส.2!I4 -> 0
A11: ชื่อผู้ประเมิน | B11: =ป.มบส.2!B5 -> 0
A12: ตำแหน่ง | B12: =ป.มบส.2!F5 -> 0
A14: ส่วนที่ 2 : การสรุปผลการประเมิน
A15: องค์ประกอบการประเมิน | E15: คะแนน (ก) | F15: น้ำหนัก (ข) | G15: รวมคะแนน (ก) x (ข)
A16: องค์ประกอบที่ 1 : ผลสัมฤทธิ์ของงานสอน | E16: ='เกณฑ์คะแนนตัวชี้วัด-ตอนที่ 1+2'!E98 -> 0 | F16: 70 | G16: =(E16*F16)/100 -> 0
A17: องค์ประกอบที่ 2 : พฤติกรรมการปฏิบัติราชการ (สมรรถนะ) | E17: =ป.มบส.2!L20 -> 100 | F17: 30 | G17: =(E17*F17)/100 -> 30
A18: รวม | F18: 100 | G18: =SUM(G16:G17) -> 30
A20: ระดับผลการประเมิน | C20: =IF(G18>=90,"ดีเด่น",IF(G18>=80,"ดีมาก",IF(G18>=70,"ดี",IF(G18>=60,"พอใช้","ต้องปรับปรุง")))) -> ต้องปรับปรุง
A22: ส่วนที่ 3 : แผนพัฒนาการปฏิบัติราชการรายบุคคล
A23: ความรู้ / ทักษะ / สมรรถนะที่ต้องได้รับการพัฒนา | C23: วิธีการพัฒนา | F23: ช่วงเวลาที่ต้องการ การพัฒนา
A30: ส่วนที่ 4 : การรับทราบผลการประเมิน
A31: ผู้รับการประเมิน :
B32: ได้รับทราบผลการประเมินและแผนพัฒนาการปฏิบัติราชการรายบุคคลแล้ว | E32: ลงชื่อ
E33: ตำแหน่ง | F33: =F8 -> 0
E34: วันที่
A37: ผู้ประเมิน :
B38: ได้แจ้งผลการประเมินและผู้รับการประเมินได้ลงนามรับทราบ | E38: ลงชื่อ
E39: ตำแหน่ง | F39: =B12 -> 0
E40: วันที่
B42: ได้แจ้งผลการประเมินเมื่อวันที่ …………………… | E42: ลงชื่อ
B43: แต่ผู้รับการประเมินไม่ลงนามรับทราบ | E43: ตำแหน่ง | F43: =F39 -> 0
B44: โดยมี……….........………………………เป็นพยาน | E44: วันที่
A47: ส่วนที่ 5 : ความเห็นของผู้บังคับบัญชาเหนือขึ้นไป
A48: ผู้บังคับบัญชาเหนือขึ้นไป :
B49: เห็นด้วยกับผลการประเมิน
B50: มีความเห็นต่าง ดังนี้
E51: ลงชื่อ
E52: ตำแหน่ง
E53: วันที่
A55: ผู้บังคับบัญชาเหนือขึ้นไปอีกชั้นหนึ่ง (ถ้ามี) :
B56: เห็นด้วยกับผลการประเมิน
B57: มีความเห็นต่าง ดังนี้
E58: ลงชื่อ
...
